Workbook

Sheet Anmeldung
A1: SKVD Kinder- & Jugendturnier – Anmeldung
B3: Dojo: | H3: Dojoleiter: | N3: Stichtag: | O3: 46341
B4: Ansprechpartner: | H4: E-Mail: | N4: Telefon:
B5: Gesamt Dojo
B6: Teilnehmer | C6: Teams | E6: Kata | F6: Kihon Kumite | G6: Jiyu Kumite | H6: Kampf-richter | I6: Schreiber | J6: Startgeld Einzel | L6: Startgeld Teams | N6: STARTGELD DOJO GESAMT
B7: =COUNTA(B10:B41) -> 0 | C7: =COUNTA(Teams!B10:B23)+COUNTA(Teams!B31:B36) -> 0 | E7: =G42+Teams!K24+Teams!K37 -> 0 | F7: =I42+Teams!M24 -> 0 | G7: =K42+Teams!O24 -> 0 | H7: =M42 -> 0 | I7: =N42 -> 0 | J7: =O42 -> 0 | L7: =Teams!Q24+Teams!Q37 -> 0 | N7: =J7+L7 -> 0
B8: Weiße Felder ausfüllen · graue Felder rechnen automatisch · „X“ = Anmeldung zur jeweiligen Kategorie (5 € je X)
A9: Nr. | B9: Vorname, Nachname | C9: Geburts- datum | D9: Alter | E9: Geschlecht | F9: Graduierung | G9: Kata | H9: Kata-Nr. | I9: Kihon Kumite | J9: Kihon-Nr. | K9: Jiyu Kumite | L9: Jiyu-Nr. | M9: Kampf- richter | N9: Schreiber | O9: Startgeld
A10: 1 | D10: =IF(C10="","",IFERROR(DATEDIF(C10,$O$3,"Y"),"?")) | H10: =IF(G10<>"X","",IF(OR($S10="",$T10=""),IF(AND(ISNUMBER(D10),D10>17),"Alter über 17","Angaben fehlen"),IFERROR(IF(ISNUMBER(INDEX(Kategorien!$D$8:$E$23,MATCH($S10,Kategorien!$A$8:$A$23,0),$T10)),INDEX(Kategorien!$D$8:$E$23,MATCH($S10,Kategorien!$A$8:$A$23,0),$T10),"nicht vorgesehen"),"Angaben fehlen"))) | J10: =IF(I10<>"X","",IF(OR($S10="",$T10=""),IF(AND(ISNUMBER(D10),D10>17),"Alter über 17","Angaben fehlen"),IFERROR(IF(ISNUMBER(INDEX(Kategorien!$F$8:$G$23,MATCH($S10,Kategorien!$A$8:$A$23,0),$T10)),INDEX(Kategorien!$F$8:$G$23,MATCH($S10,Kategorien!$A$8:$A$23,0),$T10),"nicht vorgesehen"),"Angaben fehlen"))) | L10: =IF(K10<>"X","",IF(OR($S10="",$T10=""),IF(AND(ISNUMBER(D10),D10>17),"Alter über 17","Angaben fehlen"),IFERROR(IF(ISNUMBER(INDEX(Kategorien!$H$8:$I$23,MATCH($S10,Kategorien!$A$8:$A$23,0),$T10)),INDEX(Kategorien!$H$8:$I$23,MATCH($S10,Kategorien!$A$8:$A$23,0),$T10),"nicht vorgesehen"),"Angaben fehlen"))) | O10: =IF(((G10="X")+(I10="X")+(K10="X"))=0,"",Kategorien!$D$3*((G10="X")+(I10="X")+(K10="X"))) | Q10: =IF(ISNUMBER(D10),IF(D10<=7,1,IF(D10<=9,2,IF(D10<=11,3,IF(D10<=13,4,IF(D10<=15,5,IF(D10<=17,6,"")))))),"") | R10: =IF(F10="","",IF(RIGHT(F10,3)="Dan",3,IF(VALUE(LEFT(F10,FIND(".",F10)-1))>=8,1,IF(VALUE(LEFT(F10,FIND(".",F10)-1))>=4,2,3)))) | S10: =IF(AND(ISNUMBER(Q10),ISNUMBER(R10)),"A"&Q10&"K"&IF(AND(R10=3,Q10<=2),2,R10),"") | T10: =IF(E10="Jungen",1,IF(E10="Mädchen",2,""))
A11: 2 | D11: =IF(C11="","",IFERROR(DATEDIF(C11,$O$3,"Y"),"?")) | H11: =IF(G11<>"X","",IF(OR($S11="",$T11=""),IF(AND(ISNUMBER(D11),D11>17),"Alter über 17","Angaben fehlen"),IFERROR(IF(ISNUMBER(INDEX(Kategorien!$D$8:$E$23,MATCH($S11,Kategorien!$A$8:$A$23,0),$T11)),INDEX(Kategorien!$D$8:$E$23,MATCH($S11,Kategorien!$A$8:$A$23,0),$T11),"nicht vorgesehen"),"Angaben fehlen"))) | J11: =IF(I11<>"X","",IF(OR($S11="",$T11=""),IF(AND(ISNUMBER(D11),D11>17),"Alter über 17","Angaben fehlen"),IFERROR(IF(ISNUMBER(INDEX(Kategorien!$F$8:$G$23,MATCH($S11,Kategorien!$A$8:$A$23,0),$T11)),INDEX(Kategorien!$F$8:$G$23,MATCH($S11,Kategorien!$A$8:$A$23,0),$T11),"nicht vorgesehen"),"Angaben fehlen"))) | L11: =IF(K11<>"X","",IF(OR($S11="",$T11=""),IF(AND(ISNUMBER(D11),D11>17),"Alter über 17","Angaben fehlen"),IFERROR(IF(ISNUMBER(INDEX(Kategorien!$H$8:$I$23,MATCH($S11,Kategorien!$A$8:$A$23,0),$T11)),INDEX(Kategorien!$H$8:$I$23,MATCH($S11,Kategorien!$A$8:$A$23,0),$T11),"nicht vorgesehen"),"Angaben fehlen"))) | O11: =IF(((G11="X")+(I11="X")+(K11="X"))=0,"",Kategorien!$D$3*((G11="X")+(I11="X")+(K11="X"))) | Q11: =IF(ISNUMBER(D11),IF(D11<=7,1,IF(D11<=9,2,IF(D11<=11,3,IF(D11<=13,4,IF(D11<=15,5,IF(D11<=17,6,"")))))),"") | R11: =IF(F11="","",IF(RIGHT(F11,3)="Dan",3,IF(VALUE(LEFT(F11,FIND(".",F11)-1))>=8,1,IF(VALUE(LEFT(F11,FIND(".",F11)-1))>=4,2,3)))) | S11: =IF(AND(ISNUMBER(Q11),ISNUMBER(R11)),"A"&Q11&"K"&IF(AND(R11=3,Q11<=2),2,R11),"") | T11: =IF(E11="Jungen",1,IF(E11="Mädchen",2,""))
A12: 3 | D12: =IF(C12="","",IFERROR(DATEDIF(C12,$O$3,"Y"),"?")) | H12: =IF(G12<>"X","",IF(OR($S12="",$T12=""),IF(AND(ISNUMBER(D12),D12>17),"Alter über 17","Angaben fehlen"),IFERROR(IF(ISNUMBER(INDEX(Kategorien!$D$8:$E$23,MATCH($S12,Kategorien!$A$8:$A$23,0),$T12)),INDEX(Kategorien!$D$8:$E$23,MATCH($S12,Kategorien!$A$8:$A$23,0),$T12),"nicht vorgesehen"),"Angaben fehlen"))) | J12: =IF(I12<>"X","",IF(OR($S12="",$T12=""),IF(AND(ISNUMBER(D12),D12>17),"Alter über 17","Angaben fehlen"),IFERROR(IF(ISNUMBER(INDEX(Kategorien!$F$8:$G$23,MATCH($S12,Kategorien!$A$8:$A$23,0),$T12)),INDEX(Kategorien!$F$8:$G$23,MATCH($S12,Kategorien!$A$8:$A$23,0),$T12),"nicht vorgesehen"),"Angaben fehlen"))) | L12: =IF(K12<>"X","",IF(OR($S12="",$T12=""),IF(AND(ISNUMBER(D12),D12>17),"Alter über 17","Angaben fehlen"),IFERROR(IF(ISNUMBER(INDEX(Kategorien!$H$8:$I$23,MATCH($S12,Kategorien!$A$8:$A$23,0),$T12)),INDEX(Kategorien!$H$8:$I$23,MATCH($S12,Kategorien!$A$8:$A$23,0),$T12),"nicht vorgesehen"),"Angaben fehlen"))) | O12: =IF(((G12="X")+(I12="X")+(K12="X"))=0,"",Kategorien!$D$3*((G12="X")+(I12="X")+(K12="X"))) | Q12: =IF(ISNUMBER(D12),IF(D12<=7,1,IF(D12<=9,2,IF(D12<=11,3,IF(D12<=13,4,IF(D12<=15,5,IF(D12<=17,6,"")))))),"") | R12: =IF(F12="","",IF(RIGHT(F12,3)="Dan",3,IF(VALUE(LEFT(F12,FIND(".",F12)-1))>=8,1,IF(VALUE(LEFT(F12,FIND(".",F12)-1))>=4,2,3)))) | S12: =IF(AND(ISNUMBER(Q12),ISNUMBER(R12)),"A"&Q12&"K"&IF(AND(R12=3,Q12<=2),2,R12),"") | T12: =IF(E12="Jungen",1,IF(E12="Mädchen",2,""))
A13: 4 | D13: =IF(C13="","",IFERROR(DATEDIF(C13,$O$3,"Y"),"?")) | H13: =IF(G13<>"X","",IF(OR($S13="",$T13=""),IF(AND(ISNUMBER(D13),D13>17),"Alter über 17","Angaben fehlen"),IFERROR(IF(ISNUMBER(INDEX(Kategorien!$D$8:$E$23,MATCH($S13,Kategorien!$A$8:$A$23,0),$T13)),INDEX(Kategorien!$D$8:$E$23,MATCH($S13,Kategorien!$A$8:$A$23,0),$T13),"nicht vorgesehen"),"Angaben fehlen"))) | J13: =IF(I13<>"X","",IF(OR($S13="",$T13=""),IF(AND(ISNUMBER(D13),D13>17),"Alter über 17","Angaben fehlen"),IFERROR(IF(ISNUMBER(INDEX(Kategorien!$F$8:$G$23,MATCH($S13,Kategorien!$A$8:$A$23,0),$T13)),INDEX(Kategorien!$F$8:$G$23,MATCH($S13,Kategorien!$A$8:$A$23,0),$T13),"nicht vorgesehen"),"Angaben fehlen"))) | L13: =IF(K13<>"X","",IF(OR($S13="",$T13=""),IF(AND(ISNUMBER(D13),D13>17),"Alter über 17","Angaben fehlen"),IFERROR(IF(ISNUMBER(INDEX(Kategorien!$H$8:$I$23,MATCH($S13,Kategorien!$A$8:$A$23,0),$T13)),INDEX(Kategorien!$H$8:$I$23,MATCH($S13,Kategorien!$A$8:$A$23,0),$T13),"nicht vorgesehen"),"Angaben fehlen"))) | O13: =IF(((G13="X")+(I13="X")+(K13="X"))=0,"",Kategorien!$D$3*((G13="X")+(I13="X")+(K13="X"))) | Q13: =IF(ISNUMBER(D13),IF(D13<=7,1,IF(D13<=9,2,IF(D13<=11,3,IF(D13<=13,4,IF(D13<=15,5,IF(D13<=17,6,"")))))),"") | R13: =IF(F13="","",IF(RIGHT(F13,3)="Dan",3,IF(VALUE(LEFT(F13,FIND(".",F13)-1))>=8,1,IF(VALUE(LEFT(F13,FIND(".",F13)-1))>=4,2,3)))) | S13: =IF(AND(ISNUMBER(Q13),ISNUMBER(R13)),"A"&Q13&"K"&IF(AND(R13=3,Q13<=2),2,R13),"") | T13: =IF(E13="Jungen",1,IF(E13="Mädchen",2,""))
A14: 5 | D14: =IF(C14="","",IFERROR(DATEDIF(C14,$O$3,"Y"),"?")) | H14: =IF(G14<>"X","",IF(OR($S14="",$T14=""),IF(AND(ISNUMBER(D14),D14>17),"Alter über 17","Angaben fehlen"),IFERROR(IF(ISNUMBER(INDEX(Kategorien!$D$8:$E$23,MATCH($S14,Kategorien!$A$8:$A$23,0),$T14)),INDEX(Kategorien!$D$8:$E$23,MATCH($S14,Kategorien!$A$8:$A$23,0),$T14),"nicht vorgesehen"),"Angaben fehlen"))) | J14: =IF(I14<>"X","",IF(OR($S14="",$T14=""),IF(AND(ISNUMBER(D14),D14>17),"Alter über 17","Angaben fehlen"),IFERROR(IF(ISNUMBER(INDEX(Kategorien!$F$8:$G$23,MATCH($S14,Kategorien!$A$8:$A$23,0),$T14)),INDEX(Kategorien!$F$8:$G$23,MATCH($S14,Kategorien!$A$8:$A$23,0),$T14),"nicht vorgesehen"),"Angaben fehlen"))) | L14: =IF(K14<>"X","",IF(OR($S14="",$T14=""),IF(AND(ISNUMBER(D14),D14>17),"Alter über 17","Angaben fehlen"),IFERROR(IF(ISNUMBER(INDEX(Kategorien!$H$8:$I$23,MATCH($S14,Kategorien!$A$8:$A$23,0),$T14)),INDEX(Kategorien!$H$8:$I$23,MATCH($S14,Kategorien!$A$8:$A$23,0),$T14),"nicht vorgesehen"),"Angaben fehlen"))) | O14: =IF(((G14="X")+(I14="X")+(K14="X"))=0,"",Kategorien!$D$3*((G14="X")+(I14="X")+(K14="X"))) | Q14: =IF(ISNUMBER(D14),IF(D14<=7,1,IF(D14<=9,2,IF(D14<=11,3,IF(D14<=13,4,IF(D14<=15,5,IF(D14<=17,6,"")))))),"") | R14: =IF(F14="","",IF(RIGHT(F14,3)="Dan",3,IF(VALUE(LEFT(F14,FIND(".",F14)-1))>=8,1,IF(VALUE(LEFT(F14,FIND(".",F14)-1))>=4,2,3)))) | S14: =IF(AND(ISNUMBER(Q14),ISNUMBER(R14)),"A"&Q14&"K"&IF(AND(R14=3,Q14<=2),2,R14),"") | T14: =IF(E14="Jungen",1,IF(E14="Mädchen",2,""))
A15: 6 | D15: =IF(C15="","",IFERROR(DATEDIF(C15,$O$3,"Y"),"?")) | H15: =IF(G15<>"X","",IF(OR($S15="",$T15=""),IF(AND(ISNUMBER(D15),D15>17),"Alter über 17","Angaben fehlen"),IFERROR(IF(ISNUMBER(INDEX(Kategorien!$D$8:$E$23,MATCH($S15,Kategorien!$A$8:$A$23,0),$T15)),INDEX(Kategorien!$D$8:$E$23,MATCH($S15,Kategorien!$A$8:$A$23,0),$T15),"nicht vorgesehen"),"Angaben fehlen"))) | J15: =IF(I15<>"X","",IF(OR($S15="",$T15=""),IF(AND(ISNUMBER(D15),D15>17),"Alter über 17","Angaben fehlen"),IFERROR(IF(ISNUMBER(INDEX(Kategorien!$F$8:$G$23,MATCH($S15,Kategorien!$A$8:$A$23,0),$T15)),INDEX(Kategorien!$F$8:$G$23,MATCH($S15,Kategorien!$A$8:$A$23,0),$T15),"nicht vorgesehen"),"Angaben fehlen"))) | L15: =IF(K15<>"X","",IF(OR($S15="",$T15=""),IF(AND(ISNUMBER(D15),D15>17),"Alter über 17","Angaben fehlen"),IFERROR(IF(ISNUMBER(INDEX(Kategorien!$H$8:$I$23,MATCH($S15,Kategorien!$A$8:$A$23,0),$T15)),INDEX(Kategorien!$H$8:$I$23,MATCH($S15,Kategorien!$A$8:$A$23,0),$T15),"nicht vorgesehen"),"Angaben fehlen"))) | O15: =IF(((G15="X")+(I15="X")+(K15="X"))=0,"",Kategorien!$D$3*((G15="X")+(I15="X")+(K15="X"))) | Q15: =IF(ISNUMBER(D15),IF(D15<=7,1,IF(D15<=9,2,IF(D15<=11,3,IF(D15<=13,4,IF(D15<=15,5,IF(D15<=17,6,"")))))),"") | R15: =IF(F15="","",IF(RIGHT(F15,3)="Dan",3,IF(VALUE(LEFT(F15,FIND(".",F15)-1))>=8,1,IF(VALUE(LEFT(F15,FIND(".",F15)-1))>=4,2,3)))) | S15: =IF(AND(ISNUMBER(Q15),ISNUMBER(R15)),"A"&Q15&"K"&IF(AND(R15=3,Q15<=2),2,R15),"") | T15: =IF(E15="Jungen",1,IF(E15="Mädchen",2,""))
A16: 7 | D16: =IF(C16="","",IFERROR(DATEDIF(C16,$O$3,"Y"),"?")) | H16: =IF(G16<>"X","",IF(OR($S16="",$T16=""),IF(AND(ISNUMBER(D16),D16>17),"Alter über 17","Angaben fehlen"),IFERROR(IF(ISNUMBER(INDEX(Kategorien!$D$8:$E$23,MATCH($S16,Kategorien!$A$8:$A$23,0),$T16)),INDEX(Kategorien!$D$8:$E$23,MATCH($S16,Kategorien!$A$8:$A$23,0),$T16),"nicht vorgesehen"),"Angaben fehlen"))) | J16: =IF(I16<>"X","",IF(OR($S16="",$T16=""),IF(AND(ISNUMBER(D16),D16>17),"Alter über 17","Angaben fehlen"),IFERROR(IF(ISNUMBER(INDEX(Kategorien!$F$8:$G$23,MATCH($S16,Kategorien!$A$8:$A$23,0),$T16)),INDEX(Kategorien!$F$8:$G$23,MATCH($S16,Kategorien!$A$8:$A$23,0),$T16),"nicht vorgesehen"),"Angaben fehlen"))) | L16: =IF(K16<>"X","",IF(OR($S16="",$T16=""),IF(AND(ISNUMBER(D16),D16>17),"Alter über 17","Angaben fehlen"),IFERROR(IF(ISNUMBER(INDEX(Kategorien!$H$8:$I$23,MATCH($S16,Kategorien!$A$8:$A$23,0),$T16)),INDEX(Kategorien!$H$8:$I$23,MATCH($S16,Kategorien!$A$8:$A$23,0),$T16),"nicht vorgesehen"),"Angaben fehlen"))) | O16: =IF(((G16="X")+(I16="X")+(K16="X"))=0,"",Kategorien!$D$3*((G16="X")+(I16="X")+(K16="X"))) | Q16: =IF(ISNUMBER(D16),IF(D16<=7,1,IF(D16<=9,2,IF(D16<=11,3,IF(D16<=13,4,IF(D16<=15,5,IF(D16<=17,6,"")))))),"") | R16: =IF(F16="","",IF(RIGHT(F16,3)="Dan",3,IF(VALUE(LEFT(F16,FIND(".",F16)-1))>=8,1,IF(VALUE(LEFT(F16,FIND(".",F16)-1))>=4,2,3)))) | S16: =IF(AND(ISNUMBER(Q16),ISNUMBER(R16)),"A"&Q16&"K"&IF(AND(R16=3,Q16<=2),2,R16),"") | T16: =IF(E16="Jungen",1,IF(E16="Mädchen",2,""))
A17: 8 | D17: =IF(C17="","",IFERROR(DATEDIF(C17,$O$3,"Y"),"?")) | H17: =IF(G17<>"X","",IF(OR($S17="",$T17=""),IF(AND(ISNUMBER(D17),D17>17),"Alter über 17","Angaben fehlen"),IFERROR(IF(ISNUMBER(INDEX(Kategorien!$D$8:$E$23,MATCH($S17,Kategorien!$A$8:$A$23,0),$T17)),INDEX(Kategorien!$D$8:$E$23,MATCH($S17,Kategorien!$A$8:$A$23,0),$T17),"nicht vorgesehen"),"Angaben fehlen"))) | J17: =IF(I17<>"X","",IF(OR($S17="",$T17=""),IF(AND(ISNUMBER(D17),D17>17),"Alter über 17","Angaben fehlen"),IFERROR(IF(ISNUMBER(INDEX(Kategorien!$F$8:$G$23,MATCH($S17,Kategorien!$A$8:$A$23,0),$T17)),INDEX(Kategorien!$F$8:$G$23,MATCH($S17,Kategorien!$A$8:$A$23,0),$T17),"nicht vorgesehen"),"Angaben fehlen"))) | L17: =IF(K17<>"X","",IF(OR($S17="",$T17=""),IF(AND(ISNUMBER(D17),D17>17),"Alter über 17","Angaben fehlen"),IFERROR(IF(ISNUMBER(INDEX(Kategorien!$H$8:$I$23,MATCH($S17,Kategorien!$A$8:$A$23,0),$T17)),INDEX(Kategorien!$H$8:$I$23,MATCH($S17,Kategorien!$A$8:$A$23,0),$T17),"nicht vorgesehen"),"Angaben fehlen"))) | O17: =IF(((G17="X")+(I17="X")+(K17="X"))=0,"",Kategorien!$D$3*((G17="X")+(I17="X")+(K17="X"))) | Q17: =IF(ISNUMBER(D17),IF(D17<=7,1,IF(D17<=9,2,IF(D17<=11,3,IF(D17<=13,4,IF(D17<=15,5,IF(D17<=17,6,"")))))),"") | R17: =IF(F17="","",IF(RIGHT(F17,3)="Dan",3,IF(VALUE(LEFT(F17,FIND(".",F17)-1))>=8,1,IF(VALUE(LEFT(F17,FIND(".",F17)-1))>=4,2,3)))) | S17: =IF(AND(ISNUMBER(Q17),ISNUMBER(R17)),"A"&Q17&"K"&IF(AND(R17=3,Q17<=2),2,R17),"") | T17: =IF(E17="Jungen",1,IF(E17="Mädchen",2,""))
A18: 9 | D18: =IF(C18="","",IFERROR(DATEDIF(C18,$O$3,"Y"),"?")) | H18: =IF(G18<>"X","",IF(OR($S18="",$T18=""),IF(AND(ISNUMBER(D18),D18>17),"Alter über 17","Angaben fehlen"),IFERROR(IF(ISNUMBER(INDEX(Kategorien!$D$8:$E$23,MATCH($S18,Kategorien!$A$8:$A$23,0),$T18)),INDEX(Kategorien!$D$8:$E$23,MATCH($S18,Kategorien!$A$8:$A$23,0),$T18),"nicht vorgesehen"),"Angaben fehlen"))) | J18: =IF(I18<>"X","",IF(OR($S18="",$T18=""),IF(AND(ISNUMBER(D18),D18>17),"Alter über 17","Angaben fehlen"),IFERROR(IF(ISNUMBER(INDEX(Kategorien!$F$8:$G$23,MATCH($S18,Kategorien!$A$8:$A$23,0),$T18)),INDEX(Kategorien!$F$8:$G$23,MATCH($S18,Kategorien!$A$8:$A$23,0),$T18),"nicht vorgesehen"),"Angaben fehlen"))) | L18: =IF(K18<>"X","",IF(OR($S18="",$T18=""),IF(AND(ISNUMBER(D18),D18>17),"Alter über 17","Angaben fehlen"),IFERROR(IF(ISNUMBER(INDEX(Kategorien!$H$8:$I$23,MATCH($S18,Kategorien!$A$8:$A$23,0),$T18)),INDEX(Kategorien!$H$8:$I$23,MATCH($S18,Kategorien!$A$8:$A$23,0),$T18),"nicht vorgesehen"),"Angaben fehlen"))) | O18: =IF(((G18="X")+(I18="X")+(K18="X"))=0,"",Kategorien!$D$3*((G18="X")+(I18="X")+(K18="X"))) | Q18: =IF(ISNUMBER(D18),IF(D18<=7,1,IF(D18<=9,2,IF(D18<=11,3,IF(D18<=13,4,IF(D18<=15,5,IF(D18<=17,6,"")))))),"") | R18: =IF(F18="","",IF(RIGHT(F18,3)="Dan",3,IF(VALUE(LEFT(F18,FIND(".",F18)-1))>=8,1,IF(VALUE(LEFT(F18,FIND(".",F18)-1))>=4,2,3)))) | S18: =IF(AND(ISNUMBER(Q18),ISNUMBER(R18)),"A"&Q18&"K"&IF(AND(R18=3,Q18<=2),2,R18),"") | T18: =IF(E18="Jungen",1,IF(E18="Mädchen",2,""))
A19: 10 | D19: =IF(C19="","",IFERROR(DATEDIF(C19,$O$3,"Y"),"?")) | H19: =IF(G19<>"X","",IF(OR($S19="",$T19=""),IF(AND(ISNUMBER(D19),D19>17),"Alter über 17","Angaben fehlen"),IFERROR(IF(ISNUMBER(INDEX(Kategorien!$D$8:$E$23,MATCH($S19,Kategorien!$A$8:$A$23,0),$T19)),INDEX(Kategorien!$D$8:$E$23,MATCH($S19,Kategorien!$A$8:$A$23,0),$T19),"nicht vorgesehen"),"Angaben fehlen"))) | J19: =IF(I19<>"X","",IF(OR($S19="",$T19=""),IF(AND(ISNUMBER(D19),D19>17),"Alter über 17","Angaben fehlen"),IFERROR(IF(ISNUMBER(INDEX(Kategorien!$F$8:$G$23,MATCH($S19,Kategorien!$A$8:$A$23,0),$T19)),INDEX(Kategorien!$F$8:$G$23,MATCH($S19,Kategorien!$A$8:$A$23,0),$T19),"nicht vorgesehen"),"Angaben fehlen"))) | L19: =IF(K19<>"X","",IF(OR($S19="",$T19=""),IF(AND(ISNUMBER(D19),D19>17),"Alter über 17","Angaben fehlen"),IFERROR(IF(ISNUMBER(INDEX(Kategorien!$H$8:$I$23,MATCH($S19,Kategorien!$A$8:$A$23,0),$T19)),INDEX(Kategorien!$H$8:$I$23,MATCH($S19,Kategorien!$A$8:$A$23,0),$T19),"nicht vorgesehen"),"Angaben fehlen"))) | O19: =IF(((G19="X")+(I19="X")+(K19="X"))=0,"",Kategorien!$D$3*((G19="X")+(I19="X")+(K19="X"))) | Q19: =IF(ISNUMBER(D19),IF(D19<=7,1,IF(D19<=9,2,IF(D19<=11,3,IF(D19<=13,4,IF(D19<=15,5,IF(D19<=17,6,"")))))),"") | R19: =IF(F19="","",IF(RIGHT(F19,3)="Dan",3,IF(VALUE(LEFT(F19,FIND(".",F19)-1))>=8,1,IF(VALUE(LEFT(F19,FIND(".",F19)-1))>=4,2,3)))) | S19: =IF(AND(ISNUMBER(Q19),ISNUMBER(R19)),"A"&Q19&"K"&IF(AND(R19=3,Q19<=2),2,R19),"") | T19: =IF(E19="Jungen",1,IF(E19="Mädchen",2,""))
A20: 11 | D20: =IF(C20="","",IFERROR(DATEDIF(C20,$O$3,"Y"),"?")) | H20: =IF(G20<>"X","",IF(OR($S20="",$T20=""),IF(AND(ISNUMBER(D20),D20>17),"Alter über 17","Angaben fehlen"),IFERROR(IF(ISNUMBER(INDEX(Kategorien!$D$8:$E$23,MATCH($S20,Kategorien!$A$8:$A$23,0),$T20)),INDEX(Kategorien!$D$8:$E$23,MATCH($S20,Kategorien!$A$8:$A$23,0),$T20),"nicht vorgesehen"),"Angaben fehlen"))) | J20: =IF(I20<>"X","",IF(OR($S20="",$T20=""),IF(AND(ISNUMBER(D20),D20>17),"Alter über 17","Angaben fehlen"),IFERROR(IF(ISNUMBER(INDEX(Kategorien!$F$8:$G$23,MATCH($S20,Kategorien!$A$8:$A$23,0),$T20)),INDEX(Kategorien!$F$8:$G$23,MATCH($S20,Kategorien!$A$8:$A$23,0),$T20),"nicht vorgesehen"),"Angaben fehlen"))) | L20: =IF(K20<>"X","",IF(OR($S20="",$T20=""),IF(AND(ISNUMBER(D20),D20>17),"Alter über 17","Angaben fehlen"),IFERROR(IF(ISNUMBER(INDEX(Kategorien!$H$8:$I$23,MATCH($S20,Kategorien!$A$8:$A$23,0),$T20)),INDEX(Kategorien!$H$8:$I$23,MATCH($S20,Kategorien!$A$8:$A$23,0),$T20),"nicht vorgesehen"),"Angaben fehlen"))) | O20: =IF(((G20="X")+(I20="X")+(K20="X"))=0,"",Kategorien!$D$3*((G20="X")+(I20="X")+(K20="X"))) | Q20: =IF(ISNUMBER(D20),IF(D20<=7,1,IF(D20<=9,2,IF(D20<=11,3,IF(D20<=13,4,IF(D20<=15,5,IF(D20<=17,6,"")))))),"") | R20: =IF(F20="","",IF(RIGHT(F20,3)="Dan",3,IF(VALUE(LEFT(F20,FIND(".",F20)-1))>=8,1,IF(VALUE(LEFT(F20,FIND(".",F20)-1))>=4,2,3)))) | S20: =IF(AND(ISNUMBER(Q20),ISNUMBER(R20)),"A"&Q20&"K"&IF(AND(R20=3,Q20<=2),2,R20),"") | T20: =IF(E20="Jungen",1,IF(E20="Mädchen",2,""))
A21: 12 | D21: =IF(C21="","",IFERROR(DATEDIF(C21,$O$3,"Y"),"?")) | H21: =IF(G21<>"X","",IF(OR($S21="",$T21=""),IF(AND(ISNUMBER(D21),D21>17),"Alter über 17","Angaben fehlen"),IFERROR(IF(ISNUMBER(INDEX(Kategorien!$D$8:$E$23,MATCH($S21,Kategorien!$A$8:$A$23,0),$T21)),INDEX(Kategorien!$D$8:$E$23,MATCH($S21,Kategorien!$A$8:$A$23,0),$T21),"nicht vorgesehen"),"Angaben fehlen"))) | J21: =IF(I21<>"X","",IF(OR($S21="",$T21=""),IF(AND(ISNUMBER(D21),D21>17),"Alter über 17","Angaben fehlen"),IFERROR(IF(ISNUMBER(INDEX(Kategorien!$F$8:$G$23,MATCH($S21,Kategorien!$A$8:$A$23,0),$T21)),INDEX(Kategorien!$F$8:$G$23,MATCH($S21,Kategorien!$A$8:$A$23,0),$T21),"nicht vorgesehen"),"Angaben fehlen"))) | L21: =IF(K21<>"X","",IF(OR($S21="",$T21=""),IF(AND(ISNUMBER(D21),D21>17),"Alter über 17","Angaben fehlen"),IFERROR(IF(ISNUMBER(INDEX(Kategorien!$H$8:$I$23,MATCH($S21,Kategorien!$A$8:$A$23,0),$T21)),INDEX(Kategorien!$H$8:$I$23,MATCH($S21,Kategorien!$A$8:$A$23,0),$T21),"nicht vorgesehen"),"Angaben fehlen"))) | O21: =IF(((G21="X")+(I21="X")+(K21="X"))=0,"",Kategorien!$D$3*((G21="X")+(I21="X")+(K21="X"))) | Q21: =IF(ISNUMBER(D21),IF(D21<=7,1,IF(D21<=9,2,IF(D21<=11,3,IF(D21<=13,4,IF(D21<=15,5,IF(D21<=17,6,"")))))),"") | R21: =IF(F21="","",IF(RIGHT(F21,3)="Dan",3,IF(VALUE(LEFT(F21,FIND(".",F21)-1))>=8,1,IF(VALUE(LEFT(F21,FIND(".",F21)-1))>=4,2,3)))) | S21: =IF(AND(ISNUMBER(Q21),ISNUMBER(R21)),"A"&Q21&"K"&IF(AND(R21=3,Q21<=2),2,R21),"") | T21: =IF(E21="Jungen",1,IF(E21="Mädchen",2,""))
... A41: 32 | D41: =IF(C41="","",IFERROR(DATEDIF(C41,$O$3,"Y"),"?")) | H41: =IF(G41<>"X","",IF(OR($S41="",$T41=""),IF(AND(ISNUMBER(D41),D41>17),"Alter über 17","Angaben fehlen"),IFERROR(IF(ISNUMBER(INDEX(Kategorien!$D$8:$E$23,MATCH($S41,Kategorien!$A$8:$A$23,0),$T41)),INDEX(Kategorien!$D$8:$E$23,MATCH($S41,Kategorien!$A$8:$A$23,0),$T41),"nicht vorgesehen"),"Angaben fehlen"))) | J41: =IF(I41<>"X","",IF(OR($S41="",$T41=""),IF(AND(ISNUMBER(D41),D41>17),"Alter über 17","Angaben fehlen"),IFERROR(IF(ISNUMBER(INDEX(Kategorien!$F$8:$G$23,MATCH($S41,Kategorien!$A$8:$A$23,0),$T41)),INDEX(Kategorien!$F$8:$G$23,MATCH($S41,Kategorien!$A$8:$A$23,0),$T41),"nicht vorgesehen"),"Angaben fehlen"))) | L41: =IF(K41<>"X","",IF(OR($S41="",$T41=""),IF(AND(ISNUMBER(D41),D41>17),"Alter über 17","Angaben fehlen"),IFERROR(IF(ISNUMBER(INDEX(Kategorien!$H$8:$I$23,MATCH($S41,Kategorien!$A$8:$A$23,0),$T41)),INDEX(Kategorien!$H$8:$I$23,MATCH($S41,Kategorien!$A$8:$A$23,0),$T41),"nicht vorgesehen"),"Angaben fehlen"))) | O41: =IF(((G41="X")+(I41="X")+(K41="X"))=0,"",Kategorien!$D$3*((G41="X")+(I41="X")+(K41="X"))) | Q41: =IF(ISNUMBER(D41),IF(D41<=7,1,IF(D41<=9,2,IF(D41<=11,3,IF(D41<=13,4,IF(D41<=15,5,IF(D41<=17,6,"")))))),"") | R41: =IF(F41="","",IF(RIGHT(F41,3)="Dan",3,IF(VALUE(LEFT(F41,FIND(".",F41)-1))>=8,1,IF(VALUE(LEFT(F41,FIND(".",F41)-1))>=4,2,3)))) | S41: =IF(AND(ISNUMBER(Q41),ISNUMBER(R41)),"A"&Q41&"K"&IF(AND(R41=3,Q41<=2),2,R41),"") | T41: =IF(E41="Jungen",1,IF(E41="Mädchen",2,""))
B42: Summe | G42: =COUNTIF(G10:G41,"X") -> 0 | I42: =COUNTIF(I10:I41,"X") -> 0 | K42: =COUNTIF(K10:K41,"X") -> 0 | M42: =COUNTIF(M10:M41,"X") -> 0 | N42: =COUNTIF(N10:N41,"X") -> 0 | O42: =SUM(O10:O41) -> 0
B44: Kihon Kumite = Gohon- oder Sanbon-Kumite. Je nach Alter/Graduierung ist nur Kihon oder nur Jiyu Kumite vorgesehen (nur bei 12–13 Jahren, Mittelstufe/Fortgeschritten, beides).
B45: Teams und Dojo Kata (Kat. 100): Blatt „Teams“ (15 € je Kategorie). Eine Anleitung mit Beispiel steht auf dem Blatt „Anleitung“.

Sheet Teams
A1: SKVD Kinder- & Jugendturnier – Team-Anmeldung
B3: Dojo: | C3: =Anmeldung!C3&"" | F3: Stichtag: | G3: =Anmeldung!O3 -> 46341
B5: Regel: Pro Team drei Starter gleicher Altersgruppe. Ein Starter darf jünger sein und startet dann in der nächsthöheren Altersgruppe (nicht umgekehrt). Dojo Kata (Kat. 100): siehe unten.
B6: Die Team-Altersgruppe wird automatisch aus den drei Geburtsdaten ermittelt (Stichtag siehe Blatt „Anmeldung“). Startgeld: 15 € je X.
B7: Geburtsdatum: Wird ein Starter genau so geschrieben wie in der Einzelmeldung (Blatt „Anmeldung“), erscheint sein Geburtsdatum automatisch. Sonst Datum einfach eintragen (überschreibt die Formel).
A9: Nr. | B9: Teamname | C9: Starter 1 (Vor-/Nachname) | D9: Geburts- datum 1 | E9: Starter 2 (Vor-/Nachname) | F9: Geburts- datum 2 | G9: Starter 3 (Vor-/Nachname) | H9: Geburts- datum 3 | I9: Geschlecht | J9: Team- Altersgruppe | K9: Kata Team | L9: Kata-Nr. | M9: Kihon Kumite | N9: Kihon-Nr. | O9: Jiyu Kumite | P9: Jiyu-Nr. | Q9: Startgeld
A10: 1 | D10: =IF(TRIM(C10)="","",IFERROR(IF(INDEX(Anmeldung!$C$10:$C$41,MATCH(TRIM(C10),Anmeldung!$B$10:$B$41,0))="","",INDEX(Anmeldung!$C$10:$C$41,MATCH(TRIM(C10),Anmeldung!$B$10:$B$41,0))),"")) | F10: =IF(TRIM(E10)="","",IFERROR(IF(INDEX(Anmeldung!$C$10:$C$41,MATCH(TRIM(E10),Anmeldung!$B$10:$B$41,0))="","",INDEX(Anmeldung!$C$10:$C$41,MATCH(TRIM(E10),Anmeldung!$B$10:$B$41,0))),"")) | H10: =IF(TRIM(G10)="","",IFERROR(IF(INDEX(Anmeldung!$C$10:$C$41,MATCH(TRIM(G10),Anmeldung!$B$10:$B$41,0))="","",INDEX(Anmeldung!$C$10:$C$41,MATCH(TRIM(G10),Anmeldung!$B$10:$B$41,0))),"")) | J10: =IF(COUNT(S10:U10)<3,"",IF(COUNT(V10:X10)<3,"Alter über 17",IF(Z10=0,"Ungültig",INDEX(Kategorien!$B$27:$B$30,Z10)))) | L10: =IF(K10<>"X","",IF(NOT(ISNUMBER(Z10)),"Angaben fehlen",IF(Z10<1,"Team ungültig",IF(AA10="","Angaben fehlen",IFERROR(IF(ISNUMBER(INDEX(Kategorien!$C$27:$E$30,$Z10,$AA10)),INDEX(Kategorien!$C$27:$E$30,$Z10,$AA10),"nicht vorgesehen"),"Angaben fehlen"))))) | N10: =IF(M10<>"X","",IF(NOT(ISNUMBER(Z10)),"Angaben fehlen",IF(Z10<1,"Team ungültig",IF(AA10="","Angaben fehlen",IFERROR(IF(ISNUMBER(INDEX(Kategorien!$F$27:$H$30,$Z10,$AA10)),INDEX(Kategorien!$F$27:$H$30,$Z10,$AA10),"nicht vorgesehen"),"Angaben fehlen"))))) | P10: =IF(O10<>"X","",IF(NOT(ISNUMBER(Z10)),"Angaben fehlen",IF(Z10<1,"Team ungültig",IF(AA10="","Angaben fehlen",IFERROR(IF(ISNUMBER(INDEX(Kategorien!$I$27:$K$30,$Z10,$AA10)),INDEX(Kategorien!$I$27:$K$30,$Z10,$AA10),"nicht vorgesehen"),"Angaben fehlen"))))) | Q10: =IF(((K10="X")+(M10="X")+(O10="X"))=0,"",Kategorien!$D$4*((K10="X")+(M10="X")+(O10="X"))) | S10: =IF(ISNUMBER(D10),IFERROR(DATEDIF(D10,Anmeldung!$O$3,"Y"),""),"") | T10: =IF(ISNUMBER(F10),IFERROR(DATEDIF(F10,Anmeldung!$O$3,"Y"),""),"") | U10: =IF(ISNUMBER(H10),IFERROR(DATEDIF(H10,Anmeldung!$O$3,"Y"),""),"") | V10: =IF(ISNUMBER(S10),IF(S10<=7,1,IF(S10<=11,2,IF(S10<=14,3,IF(S10<=17,4,"")))),"") | W10: =IF(ISNUMBER(T10),IF(T10<=7,1,IF(T10<=11,2,IF(T10<=14,3,IF(T10<=17,4,"")))),"") | X10: =IF(ISNUMBER(U10),IF(U10<=7,1,IF(U10<=11,2,IF(U10<=14,3,IF(U10<=17,4,"")))),"") | Y10: =IF(COUNT(V10:X10)<3,"",IF(V10=W10,V10,IF(V10=X10,V10,IF(W10=X10,W10,0)))) | Z10: =IF(ISNUMBER(Y10),IF(AND(Y10>0,MAX(V10:X10)=Y10),Y10,0),"") | AA10: =IF(I10="Jungen",1,IF(I10="Mädchen",2,IF(I10="Mixed",3,"")))
A11: 2 | D11: =IF(TRIM(C11)="","",IFERROR(IF(INDEX(Anmeldung!$C$10:$C$41,MATCH(TRIM(C11),Anmeldung!$B$10:$B$41,0))="","",INDEX(Anmeldung!$C$10:$C$41,MATCH(TRIM(C11),Anmeldung!$B$10:$B$41,0))),"")) | F11: =IF(TRIM(E11)="","",IFERROR(IF(INDEX(Anmeldung!$C$10:$C$41,MATCH(TRIM(E11),Anmeldung!$B$10:$B$41,0))="","",INDEX(Anmeldung!$C$10:$C$41,MATCH(TRIM(E11),Anmeldung!$B$10:$B$41,0))),"")) | H11: =IF(TRIM(G11)="","",IFERROR(IF(INDEX(Anmeldung!$C$10:$C$41,MATCH(TRIM(G11),Anmeldung!$B$10:$B$41,0))="","",INDEX(Anmeldung!$C$10:$C$41,MATCH(TRIM(G11),Anmeldung!$B$10:$B$41,0))),"")) | J11: =IF(COUNT(S11:U11)<3,"",IF(COUNT(V11:X11)<3,"Alter über 17",IF(Z11=0,"Ungültig",INDEX(Kategorien!$B$27:$B$30,Z11)))) | L11: =IF(K11<>"X","",IF(NOT(ISNUMBER(Z11)),"Angaben fehlen",IF(Z11<1,"Team ungültig",IF(AA11="","Angaben fehlen",IFERROR(IF(ISNUMBER(INDEX(Kategorien!$C$27:$E$30,$Z11,$AA11)),INDEX(Kategorien!$C$27:$E$30,$Z11,$AA11),"nicht vorgesehen"),"Angaben fehlen"))))) | N11: =IF(M11<>"X","",IF(NOT(ISNUMBER(Z11)),"Angaben fehlen",IF(Z11<1,"Team ungültig",IF(AA11="","Angaben fehlen",IFERROR(IF(ISNUMBER(INDEX(Kategorien!$F$27:$H$30,$Z11,$AA11)),INDEX(Kategorien!$F$27:$H$30,$Z11,$AA11),"nicht vorgesehen"),"Angaben fehlen"))))) | P11: =IF(O11<>"X","",IF(NOT(ISNUMBER(Z11)),"Angaben fehlen",IF(Z11<1,"Team ungültig",IF(AA11="","Angaben fehlen",IFERROR(IF(ISNUMBER(INDEX(Kategorien!$I$27:$K$30,$Z11,$AA11)),INDEX(Kategorien!$I$27:$K$30,$Z11,$AA11),"nicht vorgesehen"),"Angaben fehlen"))))) | Q11: =IF(((K11="X")+(M11="X")+(O11="X"))=0,"",Kategorien!$D$4*((K11="X")+(M11="X")+(O11="X"))) | S11: =IF(ISNUMBER(D11),IFERROR(DATEDIF(D11,Anmeldung!$O$3,"Y"),""),"") | T11: =IF(ISNUMBER(F11),IFERROR(DATEDIF(F11,Anmeldung!$O$3,"Y"),""),"") | U11: =IF(ISNUMBER(H11),IFERROR(DATEDIF(H11,Anmeldung!$O$3,"Y"),""),"") | V11: =IF(ISNUMBER(S11),IF(S11<=7,1,IF(S11<=11,2,IF(S11<=14,3,IF(S11<=17,4,"")))),"") | W11: =IF(ISNUMBER(T11),IF(T11<=7,1,IF(T11<=11,2,IF(T11<=14,3,IF(T11<=17,4,"")))),"") | X11: =IF(ISNUMBER(U11),IF(U11<=7,1,IF(U11<=11,2,IF(U11<=14,3,IF(U11<=17,4,"")))),"") | Y11: =IF(COUNT(V11:X11)<3,"",IF(V11=W11,V11,IF(V11=X11,V11,IF(W11=X11,W11,0)))) | Z11: =IF(ISNUMBER(Y11),IF(AND(Y11>0,MAX(V11:X11)=Y11),Y11,0),"") | AA11: =IF(I11="Jungen",1,IF(I11="Mädchen",2,IF(I11="Mixed",3,"")))
A12: 3 | D12: =IF(TRIM(C12)="","",IFERROR(IF(INDEX(Anmeldung!$C$10:$C$41,MATCH(TRIM(C12),Anmeldung!$B$10:$B$41,0))="","",INDEX(Anmeldung!$C$10:$C$41,MATCH(TRIM(C12),Anmeldung!$B$10:$B$41,0))),"")) | F12: =IF(TRIM(E12)="","",IFERROR(IF(INDEX(Anmeldung!$C$10:$C$41,MATCH(TRIM(E12),Anmeldung!$B$10:$B$41,0))="","",INDEX(Anmeldung!$C$10:$C$41,MATCH(TRIM(E12),Anmeldung!$B$10:$B$41,0))),"")) | H12: =IF(TRIM(G12)="","",IFERROR(IF(INDEX(Anmeldung!$C$10:$C$41,MATCH(TRIM(G12),Anmeldung!$B$10:$B$41,0))="","",INDEX(Anmeldung!$C$10:$C$41,MATCH(TRIM(G12),Anmeldung!$B$10:$B$41,0))),"")) | J12: =IF(COUNT(S12:U12)<3,"",IF(COUNT(V12:X12)<3,"Alter über 17",IF(Z12=0,"Ungültig",INDEX(Kategorien!$B$27:$B$30,Z12)))) | L12: =IF(K12<>"X","",IF(NOT(ISNUMBER(Z12)),"Angaben fehlen",IF(Z12<1,"Team ungültig",IF(AA12="","Angaben fehlen",IFERROR(IF(ISNUMBER(INDEX(Kategorien!$C$27:$E$30,$Z12,$AA12)),INDEX(Kategorien!$C$27:$E$30,$Z12,$AA12),"nicht vorgesehen"),"Angaben fehlen"))))) | N12: =IF(M12<>"X","",IF(NOT(ISNUMBER(Z12)),"Angaben fehlen",IF(Z12<1,"Team ungültig",IF(AA12="","Angaben fehlen",IFERROR(IF(ISNUMBER(INDEX(Kategorien!$F$27:$H$30,$Z12,$AA12)),INDEX(Kategorien!$F$27:$H$30,$Z12,$AA12),"nicht vorgesehen"),"Angaben fehlen"))))) | P12: =IF(O12<>"X","",IF(NOT(ISNUMBER(Z12)),"Angaben fehlen",IF(Z12<1,"Team ungültig",IF(AA12="","Angaben fehlen",IFERROR(IF(ISNUMBER(INDEX(Kategorien!$I$27:$K$30,$Z12,$AA12)),INDEX(Kategorien!$I$27:$K$30,$Z12,$AA12),"nicht vorgesehen"),"Angaben fehlen"))))) | Q12: =IF(((K12="X")+(M12="X")+(O12="X"))=0,"",Kategorien!$D$4*((K12="X")+(M12="X")+(O12="X"))) | S12: =IF(ISNUMBER(D12),IFERROR(DATEDIF(D12,Anmeldung!$O$3,"Y"),""),"") | T12: =IF(ISNUMBER(F12),IFERROR(DATEDIF(F12,Anmeldung!$O$3,"Y"),""),"") | U12: =IF(ISNUMBER(H12),IFERROR(DATEDIF(H12,Anmeldung!$O$3,"Y"),""),"") | V12: =IF(ISNUMBER(S12),IF(S12<=7,1,IF(S12<=11,2,IF(S12<=14,3,IF(S12<=17,4,"")))),"") | W12: =IF(ISNUMBER(T12),IF(T12<=7,1,IF(T12<=11,2,IF(T12<=14,3,IF(T12<=17,4,"")))),"") | X12: =IF(ISNUMBER(U12),IF(U12<=7,1,IF(U12<=11,2,IF(U12<=14,3,IF(U12<=17,4,"")))),"") | Y12: =IF(COUNT(V12:X12)<3,"",IF(V12=W12,V12,IF(V12=X12,V12,IF(W12=X12,W12,0)))) | Z12: =IF(ISNUMBER(Y12),IF(AND(Y12>0,MAX(V12:X12)=Y12),Y12,0),"") | AA12: =IF(I12="Jungen",1,IF(I12="Mädchen",2,IF(I12="Mixed",3,"")))
A13: 4 | D13: =IF(TRIM(C13)="","",IFERROR(IF(INDEX(Anmeldung!$C$10:$C$41,MATCH(TRIM(C13),Anmeldung!$B$10:$B$41,0))="","",INDEX(Anmeldung!$C$10:$C$41,MATCH(TRIM(C13),Anmeldung!$B$10:$B$41,0))),"")) | F13: =IF(TRIM(E13)="","",IFERROR(IF(INDEX(Anmeldung!$C$10:$C$41,MATCH(TRIM(E13),Anmeldung!$B$10:$B$41,0))="","",INDEX(Anmeldung!$C$10:$C$41,MATCH(TRIM(E13),Anmeldung!$B$10:$B$41,0))),"")) | H13: =IF(TRIM(G13)="","",IFERROR(IF(INDEX(Anmeldung!$C$10:$C$41,MATCH(TRIM(G13),Anmeldung!$B$10:$B$41,0))="","",INDEX(Anmeldung!$C$10:$C$41,MATCH(TRIM(G13),Anmeldung!$B$10:$B$41,0))),"")) | J13: =IF(COUNT(S13:U13)<3,"",IF(COUNT(V13:X13)<3,"Alter über 17",IF(Z13=0,"Ungültig",INDEX(Kategorien!$B$27:$B$30,Z13)))) | L13: =IF(K13<>"X","",IF(NOT(ISNUMBER(Z13)),"Angaben fehlen",IF(Z13<1,"Team ungültig",IF(AA13="","Angaben fehlen",IFERROR(IF(ISNUMBER(INDEX(Kategorien!$C$27:$E$30,$Z13,$AA13)),INDEX(Kategorien!$C$27:$E$30,$Z13,$AA13),"nicht vorgesehen"),"Angaben fehlen"))))) | N13: =IF(M13<>"X","",IF(NOT(ISNUMBER(Z13)),"Angaben fehlen",IF(Z13<1,"Team ungültig",IF(AA13="","Angaben fehlen",IFERROR(IF(ISNUMBER(INDEX(Kategorien!$F$27:$H$30,$Z13,$AA13)),INDEX(Kategorien!$F$27:$H$30,$Z13,$AA13),"nicht vorgesehen"),"Angaben fehlen"))))) | P13: =IF(O13<>"X","",IF(NOT(ISNUMBER(Z13)),"Angaben fehlen",IF(Z13<1,"Team ungültig",IF(AA13="","Angaben fehlen",IFERROR(IF(ISNUMBER(INDEX(Kategorien!$I$27:$K$30,$Z13,$AA13)),INDEX(Kategorien!$I$27:$K$30,$Z13,$AA13),"nicht vorgesehen"),"Angaben fehlen"))))) | Q13: =IF(((K13="X")+(M13="X")+(O13="X"))=0,"",Kategorien!$D$4*((K13="X")+(M13="X")+(O13="X"))) | S13: =IF(ISNUMBER(D13),IFERROR(DATEDIF(D13,Anmeldung!$O$3,"Y"),""),"") | T13: =IF(ISNUMBER(F13),IFERROR(DATEDIF(F13,Anmeldung!$O$3,"Y"),""),"") | U13: =IF(ISNUMBER(H13),IFERROR(DATEDIF(H13,Anmeldung!$O$3,"Y"),""),"") | V13: =IF(ISNUMBER(S13),IF(S13<=7,1,IF(S13<=11,2,IF(S13<=14,3,IF(S13<=17,4,"")))),"") | W13: =IF(ISNUMBER(T13),IF(T13<=7,1,IF(T13<=11,2,IF(T13<=14,3,IF(T13<=17,4,"")))),"") | X13: =IF(ISNUMBER(U13),IF(U13<=7,1,IF(U13<=11,2,IF(U13<=14,3,IF(U13<=17,4,"")))),"") | Y13: =IF(COUNT(V13:X13)<3,"",IF(V13=W13,V13,IF(V13=X13,V13,IF(W13=X13,W13,0)))) | Z13: =IF(ISNUMBER(Y13),IF(AND(Y13>0,MAX(V13:X13)=Y13),Y13,0),"") | AA13: =IF(I13="Jungen",1,IF(I13="Mädchen",2,IF(I13="Mixed",3,"")))
A14: 5 | D14: =IF(TRIM(C14)="","",IFERROR(IF(INDEX(Anmeldung!$C$10:$C$41,MATCH(TRIM(C14),Anmeldung!$B$10:$B$41,0))="","",INDEX(Anmeldung!$C$10:$C$41,MATCH(TRIM(C14),Anmeldung!$B$10:$B$41,0))),"")) | F14: =IF(TRIM(E14)="","",IFERROR(IF(INDEX(Anmeldung!$C$10:$C$41,MATCH(TRIM(E14),Anmeldung!$B$10:$B$41,0))="","",INDEX(Anmeldung!$C$10:$C$41,MATCH(TRIM(E14),Anmeldung!$B$10:$B$41,0))),"")) | H14: =IF(TRIM(G14)="","",IFERROR(IF(INDEX(Anmeldung!$C$10:$C$41,MATCH(TRIM(G14),Anmeldung!$B$10:$B$41,0))="","",INDEX(Anmeldung!$C$10:$C$41,MATCH(TRIM(G14),Anmeldung!$B$10:$B$41,0))),"")) | J14: =IF(COUNT(S14:U14)<3,"",IF(COUNT(V14:X14)<3,"Alter über 17",IF(Z14=0,"Ungültig",INDEX(Kategorien!$B$27:$B$30,Z14)))) | L14: =IF(K14<>"X","",IF(NOT(ISNUMBER(Z14)),"Angaben fehlen",IF(Z14<1,"Team ungültig",IF(AA14="","Angaben fehlen",IFERROR(IF(ISNUMBER(INDEX(Kategorien!$C$27:$E$30,$Z14,$AA14)),INDEX(Kategorien!$C$27:$E$30,$Z14,$AA14),"nicht vorgesehen"),"Angaben fehlen"))))) | N14: =IF(M14<>"X","",IF(NOT(ISNUMBER(Z14)),"Angaben fehlen",IF(Z14<1,"Team ungültig",IF(AA14="","Angaben fehlen",IFERROR(IF(ISNUMBER(INDEX(Kategorien!$F$27:$H$30,$Z14,$AA14)),INDEX(Kategorien!$F$27:$H$30,$Z14,$AA14),"nicht vorgesehen"),"Angaben fehlen"))))) | P14: =IF(O14<>"X","",IF(NOT(ISNUMBER(Z14)),"Angaben fehlen",IF(Z14<1,"Team ungültig",IF(AA14="","Angaben fehlen",IFERROR(IF(ISNUMBER(INDEX(Kategorien!$I$27:$K$30,$Z14,$AA14)),INDEX(Kategorien!$I$27:$K$30,$Z14,$AA14),"nicht vorgesehen"),"Angaben fehlen"))))) | Q14: =IF(((K14="X")+(M14="X")+(O14="X"))=0,"",Kategorien!$D$4*((K14="X")+(M14="X")+(O14="X"))) | S14: =IF(ISNUMBER(D14),IFERROR(DATEDIF(D14,Anmeldung!$O$3,"Y"),""),"") | T14: =IF(ISNUMBER(F14),IFERROR(DATEDIF(F14,Anmeldung!$O$3,"Y"),""),"") | U14: =IF(ISNUMBER(H14),IFERROR(DATEDIF(H14,Anmeldung!$O$3,"Y"),""),"") | V14: =IF(ISNUMBER(S14),IF(S14<=7,1,IF(S14<=11,2,IF(S14<=14,3,IF(S14<=17,4,"")))),"") | W14: =IF(ISNUMBER(T14),IF(T14<=7,1,IF(T14<=11,2,IF(T14<=14,3,IF(T14<=17,4,"")))),"") | X14: =IF(ISNUMBER(U14),IF(U14<=7,1,IF(U14<=11,2,IF(U14<=14,3,IF(U14<=17,4,"")))),"") | Y14: =IF(COUNT(V14:X14)<3,"",IF(V14=W14,V14,IF(V14=X14,V14,IF(W14=X14,W14,0)))) | Z14: =IF(ISNUMBER(Y14),IF(AND(Y14>0,MAX(V14:X14)=Y14),Y14,0),"") | AA14: =IF(I14="Jungen",1,IF(I14="Mädchen",2,IF(I14="Mixed",3,"")))
A15: 6 | D15: =IF(TRIM(C15)="","",IFERROR(IF(INDEX(Anmeldung!$C$10:$C$41,MATCH(TRIM(C15),Anmeldung!$B$10:$B$41,0))="","",INDEX(Anmeldung!$C$10:$C$41,MATCH(TRIM(C15),Anmeldung!$B$10:$B$41,0))),"")) | F15: =IF(TRIM(E15)="","",IFERROR(IF(INDEX(Anmeldung!$C$10:$C$41,MATCH(TRIM(E15),Anmeldung!$B$10:$B$41,0))="","",INDEX(Anmeldung!$C$10:$C$41,MATCH(TRIM(E15),Anmeldung!$B$10:$B$41,0))),"")) | H15: =IF(TRIM(G15)="","",IFERROR(IF(INDEX(Anmeldung!$C$10:$C$41,MATCH(TRIM(G15),Anmeldung!$B$10:$B$41,0))="","",INDEX(Anmeldung!$C$10:$C$41,MATCH(TRIM(G15),Anmeldung!$B$10:$B$41,0))),"")) | J15: =IF(COUNT(S15:U15)<3,"",IF(COUNT(V15:X15)<3,"Alter über 17",IF(Z15=0,"Ungültig",INDEX(Kategorien!$B$27:$B$30,Z15)))) | L15: =IF(K15<>"X","",IF(NOT(ISNUMBER(Z15)),"Angaben fehlen",IF(Z15<1,"Team ungültig",IF(AA15="","Angaben fehlen",IFERROR(IF(ISNUMBER(INDEX(Kategorien!$C$27:$E$30,$Z15,$AA15)),INDEX(Kategorien!$C$27:$E$30,$Z15,$AA15),"nicht vorgesehen"),"Angaben fehlen"))))) | N15: =IF(M15<>"X","",IF(NOT(ISNUMBER(Z15)),"Angaben fehlen",IF(Z15<1,"Team ungültig",IF(AA15="","Angaben fehlen",IFERROR(IF(ISNUMBER(INDEX(Kategorien!$F$27:$H$30,$Z15,$AA15)),INDEX(Kategorien!$F$27:$H$30,$Z15,$AA15),"nicht vorgesehen"),"Angaben fehlen"))))) | P15: =IF(O15<>"X","",IF(NOT(ISNUMBER(Z15)),"Angaben fehlen",IF(Z15<1,"Team ungültig",IF(AA15="","Angaben fehlen",IFERROR(IF(ISNUMBER(INDEX(Kategorien!$I$27:$K$30,$Z15,$AA15)),INDEX(Kategorien!$I$27:$K$30,$Z15,$AA15),"nicht vorgesehen"),"Angaben fehlen"))))) | Q15: =IF(((K15="X")+(M15="X")+(O15="X"))=0,"",Kategorien!$D$4*((K15="X")+(M15="X")+(O15="X"))) | S15: =IF(ISNUMBER(D15),IFERROR(DATEDIF(D15,Anmeldung!$O$3,"Y"),""),"") | T15: =IF(ISNUMBER(F15),IFERROR(DATEDIF(F15,Anmeldung!$O$3,"Y"),""),"") | U15: =IF(ISNUMBER(H15),IFERROR(DATEDIF(H15,Anmeldung!$O$3,"Y"),""),"") | V15: =IF(ISNUMBER(S15),IF(S15<=7,1,IF(S15<=11,2,IF(S15<=14,3,IF(S15<=17,4,"")))),"") | W15: =IF(ISNUMBER(T15),IF(T15<=7,1,IF(T15<=11,2,IF(T15<=14,3,IF(T15<=17,4,"")))),"") | X15: =IF(ISNUMBER(U15),IF(U15<=7,1,IF(U15<=11,2,IF(U15<=14,3,IF(U15<=17,4,"")))),"") | Y15: =IF(COUNT(V15:X15)<3,"",IF(V15=W15,V15,IF(V15=X15,V15,IF(W15=X15,W15,0)))) | Z15: =IF(ISNUMBER(Y15),IF(AND(Y15>0,MAX(V15:X15)=Y15),Y15,0),"") | AA15: =IF(I15="Jungen",1,IF(I15="Mädchen",2,IF(I15="Mixed",3,"")))
A16: 7 | D16: =IF(TRIM(C16)="","",IFERROR(IF(INDEX(Anmeldung!$C$10:$C$41,MATCH(TRIM(C16),Anmeldung!$B$10:$B$41,0))="","",INDEX(Anmeldung!$C$10:$C$41,MATCH(TRIM(C16),Anmeldung!$B$10:$B$41,0))),"")) | F16: =IF(TRIM(E16)="","",IFERROR(IF(INDEX(Anmeldung!$C$10:$C$41,MATCH(TRIM(E16),Anmeldung!$B$10:$B$41,0))="","",INDEX(Anmeldung!$C$10:$C$41,MATCH(TRIM(E16),Anmeldung!$B$10:$B$41,0))),"")) | H16: =IF(TRIM(G16)="","",IFERROR(IF(INDEX(Anmeldung!$C$10:$C$41,MATCH(TRIM(G16),Anmeldung!$B$10:$B$41,0))="","",INDEX(Anmeldung!$C$10:$C$41,MATCH(TRIM(G16),Anmeldung!$B$10:$B$41,0))),"")) | J16: =IF(COUNT(S16:U16)<3,"",IF(COUNT(V16:X16)<3,"Alter über 17",IF(Z16=0,"Ungültig",INDEX(Kategorien!$B$27:$B$30,Z16)))) | L16: =IF(K16<>"X","",IF(NOT(ISNUMBER(Z16)),"Angaben fehlen",IF(Z16<1,"Team ungültig",IF(AA16="","Angaben fehlen",IFERROR(IF(ISNUMBER(INDEX(Kategorien!$C$27:$E$30,$Z16,$AA16)),INDEX(Kategorien!$C$27:$E$30,$Z16,$AA16),"nicht vorgesehen"),"Angaben fehlen"))))) | N16: =IF(M16<>"X","",IF(NOT(ISNUMBER(Z16)),"Angaben fehlen",IF(Z16<1,"Team ungültig",IF(AA16="","Angaben fehlen",IFERROR(IF(ISNUMBER(INDEX(Kategorien!$F$27:$H$30,$Z16,$AA16)),INDEX(Kategorien!$F$27:$H$30,$Z16,$AA16),"nicht vorgesehen"),"Angaben fehlen"))))) | P16: =IF(O16<>"X","",IF(NOT(ISNUMBER(Z16)),"Angaben fehlen",IF(Z16<1,"Team ungültig",IF(AA16="","Angaben fehlen",IFERROR(IF(ISNUMBER(INDEX(Kategorien!$I$27:$K$30,$Z16,$AA16)),INDEX(Kategorien!$I$27:$K$30,$Z16,$AA16),"nicht vorgesehen"),"Angaben fehlen"))))) | Q16: =IF(((K16="X")+(M16="X")+(O16="X"))=0,"",Kategorien!$D$4*((K16="X")+(M16="X")+(O16="X"))) | S16: =IF(ISNUMBER(D16),IFERROR(DATEDIF(D16,Anmeldung!$O$3,"Y"),""),"") | T16: =IF(ISNUMBER(F16),IFERROR(DATEDIF(F16,Anmeldung!$O$3,"Y"),""),"") | U16: =IF(ISNUMBER(H16),IFERROR(DATEDIF(H16,Anmeldung!$O$3,"Y"),""),"") | V16: =IF(ISNUMBER(S16),IF(S16<=7,1,IF(S16<=11,2,IF(S16<=14,3,IF(S16<=17,4,"")))),"") | W16: =IF(ISNUMBER(T16),IF(T16<=7,1,IF(T16<=11,2,IF(T16<=14,3,IF(T16<=17,4,"")))),"") | X16: =IF(ISNUMBER(U16),IF(U16<=7,1,IF(U16<=11,2,IF(U16<=14,3,IF(U16<=17,4,"")))),"") | Y16: =IF(COUNT(V16:X16)<3,"",IF(V16=W16,V16,IF(V16=X16,V16,IF(W16=X16,W16,0)))) | Z16: =IF(ISNUMBER(Y16),IF(AND(Y16>0,MAX(V16:X16)=Y16),Y16,0),"") | AA16: =IF(I16="Jungen",1,IF(I16="Mädchen",2,IF(I16="Mixed",3,"")))
A17: 8 | D17: =IF(TRIM(C17)="","",IFERROR(IF(INDEX(Anmeldung!$C$10:$C$41,MATCH(TRIM(C17),Anmeldung!$B$10:$B$41,0))="","",INDEX(Anmeldung!$C$10:$C$41,MATCH(TRIM(C17),Anmeldung!$B$10:$B$41,0))),"")) | F17: =IF(TRIM(E17)="","",IFERROR(IF(INDEX(Anmeldung!$C$10:$C$41,MATCH(TRIM(E17),Anmeldung!$B$10:$B$41,0))="","",INDEX(Anmeldung!$C$10:$C$41,MATCH(TRIM(E17),Anmeldung!$B$10:$B$41,0))),"")) | H17: =IF(TRIM(G17)="","",IFERROR(IF(INDEX(Anmeldung!$C$10:$C$41,MATCH(TRIM(G17),Anmeldung!$B$10:$B$41,0))="","",INDEX(Anmeldung!$C$10:$C$41,MATCH(TRIM(G17),Anmeldung!$B$10:$B$41,0))),"")) | J17: =IF(COUNT(S17:U17)<3,"",IF(COUNT(V17:X17)<3,"Alter über 17",IF(Z17=0,"Ungültig",INDEX(Kategorien!$B$27:$B$30,Z17)))) | L17: =IF(K17<>"X","",IF(NOT(ISNUMBER(Z17)),"Angaben fehlen",IF(Z17<1,"Team ungültig",IF(AA17="","Angaben fehlen",IFERROR(IF(ISNUMBER(INDEX(Kategorien!$C$27:$E$30,$Z17,$AA17)),INDEX(Kategorien!$C$27:$E$30,$Z17,$AA17),"nicht vorgesehen"),"Angaben fehlen"))))) | N17: =IF(M17<>"X","",IF(NOT(ISNUMBER(Z17)),"Angaben fehlen",IF(Z17<1,"Team ungültig",IF(AA17="","Angaben fehlen",IFERROR(IF(ISNUMBER(INDEX(Kategorien!$F$27:$H$30,$Z17,$AA17)),INDEX(Kategorien!$F$27:$H$30,$Z17,$AA17),"nicht vorgesehen"),"Angaben fehlen"))))) | P17: =IF(O17<>"X","",IF(NOT(ISNUMBER(Z17)),"Angaben fehlen",IF(Z17<1,"Team ungültig",IF(AA17="","Angaben fehlen",IFERROR(IF(ISNUMBER(INDEX(Kategorien!$I$27:$K$30,$Z17,$AA17)),INDEX(Kategorien!$I$27:$K$30,$Z17,$AA17),"nicht vorgesehen"),"Angaben fehlen"))))) | Q17: =IF(((K17="X")+(M17="X")+(O17="X"))=0,"",Kategorien!$D$4*((K17="X")+(M17="X")+(O17="X"))) | S17: =IF(ISNUMBER(D17),IFERROR(DATEDIF(D17,Anmeldung!$O$3,"Y"),""),"") | T17: =IF(ISNUMBER(F17),IFERROR(DATEDIF(F17,Anmeldung!$O$3,"Y"),""),"") | U17: =IF(ISNUMBER(H17),IFERROR(DATEDIF(H17,Anmeldung!$O$3,"Y"),""),"") | V17: =IF(ISNUMBER(S17),IF(S17<=7,1,IF(S17<=11,2,IF(S17<=14,3,IF(S17<=17,4,"")))),"") | W17: =IF(ISNUMBER(T17),IF(T17<=7,1,IF(T17<=11,2,IF(T17<=14,3,IF(T17<=17,4,"")))),"") | X17: =IF(ISNUMBER(U17),IF(U17<=7,1,IF(U17<=11,2,IF(U17<=14,3,IF(U17<=17,4,"")))),"") | Y17: =IF(COUNT(V17:X17)<3,"",IF(V17=W17,V17,IF(V17=X17,V17,IF(W17=X17,W17,0)))) | Z17: =IF(ISNUMBER(Y17),IF(AND(Y17>0,MAX(V17:X17)=Y17),Y17,0),"") | AA17: =IF(I17="Jungen",1,IF(I17="Mädchen",2,IF(I17="Mixed",3,"")))
A18: 9 | D18: =IF(TRIM(C18)="","",IFERROR(IF(INDEX(Anmeldung!$C$10:$C$41,MATCH(TRIM(C18),Anmeldung!$B$10:$B$41,0))="","",INDEX(Anmeldung!$C$10:$C$41,MATCH(TRIM(C18),Anmeldung!$B$10:$B$41,0))),"")) | F18: =IF(TRIM(E18)="","",IFERROR(IF(INDEX(Anmeldung!$C$10:$C$41,MATCH(TRIM(E18),Anmeldung!$B$10:$B$41,0))="","",INDEX(Anmeldung!$C$10:$C$41,MATCH(TRIM(E18),Anmeldung!$B$10:$B$41,0))),"")) | H18: =IF(TRIM(G18)="","",IFERROR(IF(INDEX(Anmeldung!$C$10:$C$41,MATCH(TRIM(G18),Anmeldung!$B$10:$B$41,0))="","",INDEX(Anmeldung!$C$10:$C$41,MATCH(TRIM(G18),Anmeldung!$B$10:$B$41,0))),"")) | J18: =IF(COUNT(S18:U18)<3,"",IF(COUNT(V18:X18)<3,"Alter über 17",IF(Z18=0,"Ungültig",INDEX(Kategorien!$B$27:$B$30,Z18)))) | L18: =IF(K18<>"X","",IF(NOT(ISNUMBER(Z18)),"Angaben fehlen",IF(Z18<1,"Team ungültig",IF(AA18="","Angaben fehlen",IFERROR(IF(ISNUMBER(INDEX(Kategorien!$C$27:$E$30,$Z18,$AA18)),INDEX(Kategorien!$C$27:$E$30,$Z18,$AA18),"nicht vorgesehen"),"Angaben fehlen"))))) | N18: =IF(M18<>"X","",IF(NOT(ISNUMBER(Z18)),"Angaben fehlen",IF(Z18<1,"Team ungültig",IF(AA18="","Angaben fehlen",IFERROR(IF(ISNUMBER(INDEX(Kategorien!$F$27:$H$30,$Z18,$AA18)),INDEX(Kategorien!$F$27:$H$30,$Z18,$AA18),"nicht vorgesehen"),"Angaben fehlen"))))) | P18: =IF(O18<>"X","",IF(NOT(ISNUMBER(Z18)),"Angaben fehlen",IF(Z18<1,"Team ungültig",IF(AA18="","Angaben fehlen",IFERROR(IF(ISNUMBER(INDEX(Kategorien!$I$27:$K$30,$Z18,$AA18)),INDEX(Kategorien!$I$27:$K$30,$Z18,$AA18),"nicht vorgesehen"),"Angaben fehlen"))))) | Q18: =IF(((K18="X")+(M18="X")+(O18="X"))=0,"",Kategorien!$D$4*((K18="X")+(M18="X")+(O18="X"))) | S18: =IF(ISNUMBER(D18),IFERROR(DATEDIF(D18,Anmeldung!$O$3,"Y"),""),"") | T18: =IF(ISNUMBER(F18),IFERROR(DATEDIF(F18,Anmeldung!$O$3,"Y"),""),"") | U18: =IF(ISNUMBER(H18),IFERROR(DATEDIF(H18,Anmeldung!$O$3,"Y"),""),"") | V18: =IF(ISNUMBER(S18),IF(S18<=7,1,IF(S18<=11,2,IF(S18<=14,3,IF(S18<=17,4,"")))),"") | W18: =IF(ISNUMBER(T18),IF(T18<=7,1,IF(T18<=11,2,IF(T18<=14,3,IF(T18<=17,4,"")))),"") | X18: =IF(ISNUMBER(U18),IF(U18<=7,1,IF(U18<=11,2,IF(U18<=14,3,IF(U18<=17,4,"")))),"") | Y18: =IF(COUNT(V18:X18)<3,"",IF(V18=W18,V18,IF(V18=X18,V18,IF(W18=X18,W18,0)))) | Z18: =IF(ISNUMBER(Y18),IF(AND(Y18>0,MAX(V18:X18)=Y18),Y18,0),"") | AA18: =IF(I18="Jungen",1,IF(I18="Mädchen",2,IF(I18="Mixed",3,"")))
A19: 10 | D19: =IF(TRIM(C19)="","",IFERROR(IF(INDEX(Anmeldung!$C$10:$C$41,MATCH(TRIM(C19),Anmeldung!$B$10:$B$41,0))="","",INDEX(Anmeldung!$C$10:$C$41,MATCH(TRIM(C19),Anmeldung!$B$10:$B$41,0))),"")) | F19: =IF(TRIM(E19)="","",IFERROR(IF(INDEX(Anmeldung!$C$10:$C$41,MATCH(TRIM(E19),Anmeldung!$B$10:$B$41,0))="","",INDEX(Anmeldung!$C$10:$C$41,MATCH(TRIM(E19),Anmeldung!$B$10:$B$41,0))),"")) | H19: =IF(TRIM(G19)="","",IFERROR(IF(INDEX(Anmeldung!$C$10:$C$41,MATCH(TRIM(G19),Anmeldung!$B$10:$B$41,0))="","",INDEX(Anmeldung!$C$10:$C$41,MATCH(TRIM(G19),Anmeldung!$B$10:$B$41,0))),"")) | J19: =IF(COUNT(S19:U19)<3,"",IF(COUNT(V19:X19)<3,"Alter über 17",IF(Z19=0,"Ungültig",INDEX(Kategorien!$B$27:$B$30,Z19)))) | L19: =IF(K19<>"X","",IF(NOT(ISNUMBER(Z19)),"Angaben fehlen",IF(Z19<1,"Team ungültig",IF(AA19="","Angaben fehlen",IFERROR(IF(ISNUMBER(INDEX(Kategorien!$C$27:$E$30,$Z19,$AA19)),INDEX(Kategorien!$C$27:$E$30,$Z19,$AA19),"nicht vorgesehen"),"Angaben fehlen"))))) | N19: =IF(M19<>"X","",IF(NOT(ISNUMBER(Z19)),"Angaben fehlen",IF(Z19<1,"Team ungültig",IF(AA19="","Angaben fehlen",IFERROR(IF(ISNUMBER(INDEX(Kategorien!$F$27:$H$30,$Z19,$AA19)),INDEX(Kategorien!$F$27:$H$30,$Z19,$AA19),"nicht vorgesehen"),"Angaben fehlen"))))) | P19: =IF(O19<>"X","",IF(NOT(ISNUMBER(Z19)),"Angaben fehlen",IF(Z19<1,"Team ungültig",IF(AA19="","Angaben fehlen",IFERROR(IF(ISNUMBER(INDEX(Kategorien!$I$27:$K$30,$Z19,$AA19)),INDEX(Kategorien!$I$27:$K$30,$Z19,$AA19),"nicht vorgesehen"),"Angaben fehlen"))))) | Q19: =IF(((K19="X")+(M19="X")+(O19="X"))=0,"",Kategorien!$D$4*((K19="X")+(M19="X")+(O19="X"))) | S19: =IF(ISNUMBER(D19),IFERROR(DATEDIF(D19,Anmeldung!$O$3,"Y"),""),"") | T19: =IF(ISNUMBER(F19),IFERROR(DATEDIF(F19,Anmeldung!$O$3,"Y"),""),"") | U19: =IF(ISNUMBER(H19),IFERROR(DATEDIF(H19,Anmeldung!$O$3,"Y"),""),"") | V19: =IF(ISNUMBER(S19),IF(S19<=7,1,IF(S19<=11,2,IF(S19<=14,3,IF(S19<=17,4,"")))),"") | W19: =IF(ISNUMBER(T19),IF(T19<=7,1,IF(T19<=11,2,IF(T19<=14,3,IF(T19<=17,4,"")))),"") | X19: =IF(ISNUMBER(U19),IF(U19<=7,1,IF(U19<=11,2,IF(U19<=14,3,IF(U19<=17,4,"")))),"") | Y19: =IF(COUNT(V19:X19)<3,"",IF(V19=W19,V19,IF(V19=X19,V19,IF(W19=X19,W19,0)))) | Z19: =IF(ISNUMBER(Y19),IF(AND(Y19>0,MAX(V19:X19)=Y19),Y19,0),"") | AA19: =IF(I19="Jungen",1,IF(I19="Mädchen",2,IF(I19="Mixed",3,"")))
A20: 11 | D20: =IF(TRIM(C20)="","",IFERROR(IF(INDEX(Anmeldung!$C$10:$C$41,MATCH(TRIM(C20),Anmeldung!$B$10:$B$41,0))="","",INDEX(Anmeldung!$C$10:$C$41,MATCH(TRIM(C20),Anmeldung!$B$10:$B$41,0))),"")) | F20: =IF(TRIM(E20)="","",IFERROR(IF(INDEX(Anmeldung!$C$10:$C$41,MATCH(TRIM(E20),Anmeldung!$B$10:$B$41,0))="","",INDEX(Anmeldung!$C$10:$C$41,MATCH(TRIM(E20),Anmeldung!$B$10:$B$41,0))),"")) | H20: =IF(TRIM(G20)="","",IFERROR(IF(INDEX(Anmeldung!$C$10:$C$41,MATCH(TRIM(G20),Anmeldung!$B$10:$B$41,0))="","",INDEX(Anmeldung!$C$10:$C$41,MATCH(TRIM(G20),Anmeldung!$B$10:$B$41,0))),"")) | J20: =IF(COUNT(S20:U20)<3,"",IF(COUNT(V20:X20)<3,"Alter über 17",IF(Z20=0,"Ungültig",INDEX(Kategorien!$B$27:$B$30,Z20)))) | L20: =IF(K20<>"X","",IF(NOT(ISNUMBER(Z20)),"Angaben fehlen",IF(Z20<1,"Team ungültig",IF(AA20="","Angaben fehlen",IFERROR(IF(ISNUMBER(INDEX(Kategorien!$C$27:$E$30,$Z20,$AA20)),INDEX(Kategorien!$C$27:$E$30,$Z20,$AA20),"nicht vorgesehen"),"Angaben fehlen"))))) | N20: =IF(M20<>"X","",IF(NOT(ISNUMBER(Z20)),"Angaben fehlen",IF(Z20<1,"Team ungültig",IF(AA20="","Angaben fehlen",IFERROR(IF(ISNUMBER(INDEX(Kategorien!$F$27:$H$30,$Z20,$AA20)),INDEX(Kategorien!$F$27:$H$30,$Z20,$AA20),"nicht vorgesehen"),"Angaben fehlen"))))) | P20: =IF(O20<>"X","",IF(NOT(ISNUMBER(Z20)),"Angaben fehlen",IF(Z20<1,"Team ungültig",IF(AA20="","Angaben fehlen",IFERROR(IF(ISNUMBER(INDEX(Kategorien!$I$27:$K$30,$Z20,$AA20)),INDEX(Kategorien!$I$27:$K$30,$Z20,$AA20),"nicht vorgesehen"),"Angaben fehlen"))))) | Q20: =IF(((K20="X")+(M20="X")+(O20="X"))=0,"",Kategorien!$D$4*((K20="X")+(M20="X")+(O20="X"))) | S20: =IF(ISNUMBER(D20),IFERROR(DATEDIF(D20,Anmeldung!$O$3,"Y"),""),"") | T20: =IF(ISNUMBER(F20),IFERROR(DATEDIF(F20,Anmeldung!$O$3,"Y"),""),"") | U20: =IF(ISNUMBER(H20),IFERROR(DATEDIF(H20,Anmeldung!$O$3,"Y"),""),"") | V20: =IF(ISNUMBER(S20),IF(S20<=7,1,IF(S20<=11,2,IF(S20<=14,3,IF(S20<=17,4,"")))),"") | W20: =IF(ISNUMBER(T20),IF(T20<=7,1,IF(T20<=11,2,IF(T20<=14,3,IF(T20<=17,4,"")))),"") | X20: =IF(ISNUMBER(U20),IF(U20<=7,1,IF(U20<=11,2,IF(U20<=14,3,IF(U20<=17,4,"")))),"") | Y20: =IF(COUNT(V20:X20)<3,"",IF(V20=W20,V20,IF(V20=X20,V20,IF(W20=X20,W20,0)))) | Z20: =IF(ISNUMBER(Y20),IF(AND(Y20>0,MAX(V20:X20)=Y20),Y20,0),"") | AA20: =IF(I20="Jungen",1,IF(I20="Mädchen",2,IF(I20="Mixed",3,"")))
A21: 12 | D21: =IF(TRIM(C21)="","",IFERROR(IF(INDEX(Anmeldung!$C$10:$C$41,MATCH(TRIM(C21),Anmeldung!$B$10:$B$41,0))="","",INDEX(Anmeldung!$C$10:$C$41,MATCH(TRIM(C21),Anmeldung!$B$10:$B$41,0))),"")) | F21: =IF(TRIM(E21)="","",IFERROR(IF(INDEX(Anmeldung!$C$10:$C$41,MATCH(TRIM(E21),Anmeldung!$B$10:$B$41,0))="","",INDEX(Anmeldung!$C$10:$C$41,MATCH(TRIM(E21),Anmeldung!$B$10:$B$41,0))),"")) | H21: =IF(TRIM(G21)="","",IFERROR(IF(INDEX(Anmeldung!$C$10:$C$41,MATCH(TRIM(G21),Anmeldung!$B$10:$B$41,0))="","",INDEX(Anmeldung!$C$10:$C$41,MATCH(TRIM(G21),Anmeldung!$B$10:$B$41,0))),"")) | J21: =IF(COUNT(S21:U21)<3,"",IF(COUNT(V21:X21)<3,"Alter über 17",IF(Z21=0,"Ungültig",INDEX(Kategorien!$B$27:$B$30,Z21)))) | L21: =IF(K21<>"X","",IF(NOT(ISNUMBER(Z21)),"Angaben fehlen",IF(Z21<1,"Team ungültig",IF(AA21="","Angaben fehlen",IFERROR(IF(ISNUMBER(INDEX(Kategorien!$C$27:$E$30,$Z21,$AA21)),INDEX(Kategorien!$C$27:$E$30,$Z21,$AA21),"nicht vorgesehen"),"Angaben fehlen"))))) | N21: =IF(M21<>"X","",IF(NOT(ISNUMBER(Z21)),"Angaben fehlen",IF(Z21<1,"Team ungültig",IF(AA21="","Angaben fehlen",IFERROR(IF(ISNUMBER(INDEX(Kategorien!$F$27:$H$30,$Z21,$AA21)),INDEX(Kategorien!$F$27:$H$30,$Z21,$AA21),"nicht vorgesehen"),"Angaben fehlen"))))) | P21: =IF(O21<>"X","",IF(NOT(ISNUMBER(Z21)),"Angaben fehlen",IF(Z21<1,"Team ungültig",IF(AA21="","Angaben fehlen",IFERROR(IF(ISNUMBER(INDEX(Kategorien!$I$27:$K$30,$Z21,$AA21)),INDEX(Kategorien!$I$27:$K$30,$Z21,$AA21),"nicht vorgesehen"),"Angaben fehlen"))))) | Q21: =IF(((K21="X")+(M21="X")+(O21="X"))=0,"",Kategorien!$D$4*((K21="X")+(M21="X")+(O21="X"))) | S21: =IF(ISNUMBER(D21),IFERROR(DATEDIF(D21,Anmeldung!$O$3,"Y"),""),"") | T21: =IF(ISNUMBER(F21),IFERROR(DATEDIF(F21,Anmeldung!$O$3,"Y"),""),"") | U21: =IF(ISNUMBER(H21),IFERROR(DATEDIF(H21,Anmeldung!$O$3,"Y"),""),"") | V21: =IF(ISNUMBER(S21),IF(S21<=7,1,IF(S21<=11,2,IF(S21<=14,3,IF(S21<=17,4,"")))),"") | W21: =IF(ISNUMBER(T21),IF(T21<=7,1,IF(T21<=11,2,IF(T21<=14,3,IF(T21<=17,4,"")))),"") | X21: =IF(ISNUMBER(U21),IF(U21<=7,1,IF(U21<=11,2,IF(U21<=14,3,IF(U21<=17,4,"")))),"") | Y21: =IF(COUNT(V21:X21)<3,"",IF(V21=W21,V21,IF(V21=X21,V21,IF(W21=X21,W21,0)))) | Z21: =IF(ISNUMBER(Y21),IF(AND(Y21>0,MAX(V21:X21)=Y21),Y21,0),"") | AA21: =IF(I21="Jungen",1,IF(I21="Mädchen",2,IF(I21="Mixed",3,"")))
... A23: 14 | D23: =IF(TRIM(C23)="","",IFERROR(IF(INDEX(Anmeldung!$C$10:$C$41,MATCH(TRIM(C23),Anmeldung!$B$10:$B$41,0))="","",INDEX(Anmeldung!$C$10:$C$41,MATCH(TRIM(C23),Anmeldung!$B$10:$B$41,0))),"")) | F23: =IF(TRIM(E23)="","",IFERROR(IF(INDEX(Anmeldung!$C$10:$C$41,MATCH(TRIM(E23),Anmeldung!$B$10:$B$41,0))="","",INDEX(Anmeldung!$C$10:$C$41,MATCH(TRIM(E23),Anmeldung!$B$10:$B$41,0))),"")) | H23: =IF(TRIM(G23)="","",IFERROR(IF(INDEX(Anmeldung!$C$10:$C$41,MATCH(TRIM(G23),Anmeldung!$B$10:$B$41,0))="","",INDEX(Anmeldung!$C$10:$C$41,MATCH(TRIM(G23),Anmeldung!$B$10:$B$41,0))),"")) | J23: =IF(COUNT(S23:U23)<3,"",IF(COUNT(V23:X23)<3,"Alter über 17",IF(Z23=0,"Ungültig",INDEX(Kategorien!$B$27:$B$30,Z23)))) | L23: =IF(K23<>"X","",IF(NOT(ISNUMBER(Z23)),"Angaben fehlen",IF(Z23<1,"Team ungültig",IF(AA23="","Angaben fehlen",IFERROR(IF(ISNUMBER(INDEX(Kategorien!$C$27:$E$30,$Z23,$AA23)),INDEX(Kategorien!$C$27:$E$30,$Z23,$AA23),"nicht vorgesehen"),"Angaben fehlen"))))) | N23: =IF(M23<>"X","",IF(NOT(ISNUMBER(Z23)),"Angaben fehlen",IF(Z23<1,"Team ungültig",IF(AA23="","Angaben fehlen",IFERROR(IF(ISNUMBER(INDEX(Kategorien!$F$27:$H$30,$Z23,$AA23)),INDEX(Kategorien!$F$27:$H$30,$Z23,$AA23),"nicht vorgesehen"),"Angaben fehlen"))))) | P23: =IF(O23<>"X","",IF(NOT(ISNUMBER(Z23)),"Angaben fehlen",IF(Z23<1,"Team ungültig",IF(AA23="","Angaben fehlen",IFERROR(IF(ISNUMBER(INDEX(Kategorien!$I$27:$K$30,$Z23,$AA23)),INDEX(Kategorien!$I$27:$K$30,$Z23,$AA23),"nicht vorgesehen"),"Angaben fehlen"))))) | Q23: =IF(((K23="X")+(M23="X")+(O23="X"))=0,"",Kategorien!$D$4*((K23="X")+(M23="X")+(O23="X"))) | S23: =IF(ISNUMBER(D23),IFERROR(DATEDIF(D23,Anmeldung!$O$3,"Y"),""),"") | T23: =IF(ISNUMBER(F23),IFERROR(DATEDIF(F23,Anmeldung!$O$3,"Y"),""),"") | U23: =IF(ISNUMBER(H23),IFERROR(DATEDIF(H23,Anmeldung!$O$3,"Y"),""),"") | V23: =IF(ISNUMBER(S23),IF(S23<=7,1,IF(S23<=11,2,IF(S23<=14,3,IF(S23<=17,4,"")))),"") | W23: =IF(ISNUMBER(T23),IF(T23<=7,1,IF(T23<=11,2,IF(T23<=14,3,IF(T23<=17,4,"")))),"") | X23: =IF(ISNUMBER(U23),IF(U23<=7,1,IF(U23<=11,2,IF(U23<=14,3,IF(U23<=17,4,"")))),"") | Y23: =IF(COUNT(V23:X23)<3,"",IF(V23=W23,V23,IF(V23=X23,V23,IF(W23=X23,W23,0)))) | Z23: =IF(ISNUMBER(Y23),IF(AND(Y23>0,MAX(V23:X23)=Y23),Y23,0),"") | AA23: =IF(I23="Jungen",1,IF(I23="Mädchen",2,IF(I23="Mixed",3,"")))
B24: Summe Teams | K24: =COUNTIF(K10:K23,"X") -> 0 | M24: =COUNTIF(M10:M23,"X") -> 0 | O24: =COUNTIF(O10:O23,"X") -> 0 | Q24: =SUM(Q10:Q23) -> 0
B26: Team-Startgeld wird auf dem Blatt „Anmeldung“ in „Startgeld Dojo gesamt“ mit eingerechnet.
A28: Dojo Kata (Kategorie 100)
B29: Regel: Drei Starter eines Dojos, jeweils aus unterschiedlichen Team-Altersgruppen (bis 7 · 8–11 · 12–14 · 15–17 Jahre), z. B. Mädchen aus Kat. 109, Junge aus 131, Junge aus 165. Zwei Starter derselben Altersgruppe sind nicht zulässig („Ungültig“).
A30: Nr. | B30: Bezeichnung | C30: Starter 1 (Vor-/Nachname) | D30: Geburts- datum 1 | E30: Starter 2 (Vor-/Nachname) | F30: Geburts- datum 2 | G30: Starter 3 (Vor-/Nachname) | H30: Geburts- datum 3 | J30: Prüfung Altersgruppen | K30: Dojo Kata | L30: Kata-Nr. | Q30: Startgeld
A31: 1 | D31: =IF(TRIM(C31)="","",IFERROR(IF(INDEX(Anmeldung!$C$10:$C$41,MATCH(TRIM(C31),Anmeldung!$B$10:$B$41,0))="","",INDEX(Anmeldung!$C$10:$C$41,MATCH(TRIM(C31),Anmeldung!$B$10:$B$41,0))),"")) | F31: =IF(TRIM(E31)="","",IFERROR(IF(INDEX(Anmeldung!$C$10:$C$41,MATCH(TRIM(E31),Anmeldung!$B$10:$B$41,0))="","",INDEX(Anmeldung!$C$10:$C$41,MATCH(TRIM(E31),Anmeldung!$B$10:$B$41,0))),"")) | H31: =IF(TRIM(G31)="","",IFERROR(IF(INDEX(Anmeldung!$C$10:$C$41,MATCH(TRIM(G31),Anmeldung!$B$10:$B$41,0))="","",INDEX(Anmeldung!$C$10:$C$41,MATCH(TRIM(G31),Anmeldung!$B$10:$B$41,0))),"")) | J31: =IF(B31="","",IF(COUNT(S31:U31)<3,"",IF(COUNT(V31:X31)<3,"Alter über 17",IF(Y31=1,"gültig","Ungültig")))) | L31: =IF(K31<>"X","",IF(NOT(ISNUMBER(Y31)),"Angaben fehlen",IF(Y31=1,Kategorien!$C$34,"Team ungültig"))) | Q31: =IF(K31="X",Kategorien!$D$4,"") | S31: =IF(ISNUMBER(D31),IFERROR(DATEDIF(D31,Anmeldung!$O$3,"Y"),""),"") | T31: =IF(ISNUMBER(F31),IFERROR(DATEDIF(F31,Anmeldung!$O$3,"Y"),""),"") | U31: =IF(ISNUMBER(H31),IFERROR(DATEDIF(H31,Anmeldung!$O$3,"Y"),""),"") | V31: =IF(ISNUMBER(S31),IF(S31<=7,1,IF(S31<=11,2,IF(S31<=14,3,IF(S31<=17,4,"")))),"") | W31: =IF(ISNUMBER(T31),IF(T31<=7,1,IF(T31<=11,2,IF(T31<=14,3,IF(T31<=17,4,"")))),"") | X31: =IF(ISNUMBER(U31),IF(U31<=7,1,IF(U31<=11,2,IF(U31<=14,3,IF(U31<=17,4,"")))),"") | Y31: =IF(COUNT(V31:X31)<3,"",IF(AND(V31<>W31,V31<>X31,W31<>X31),1,0))
A32: 2 | D32: =IF(TRIM(C32)="","",IFERROR(IF(INDEX(Anmeldung!$C$10:$C$41,MATCH(TRIM(C32),Anmeldung!$B$10:$B$41,0))="","",INDEX(Anmeldung!$C$10:$C$41,MATCH(TRIM(C32),Anmeldung!$B$10:$B$41,0))),"")) | F32: =IF(TRIM(E32)="","",IFERROR(IF(INDEX(Anmeldung!$C$10:$C$41,MATCH(TRIM(E32),Anmeldung!$B$10:$B$41,0))="","",INDEX(Anmeldung!$C$10:$C$41,MATCH(TRIM(E32),Anmeldung!$B$10:$B$41,0))),"")) | H32: =IF(TRIM(G32)="","",IFERROR(IF(INDEX(Anmeldung!$C$10:$C$41,MATCH(TRIM(G32),Anmeldung!$B$10:$B$41,0))="","",INDEX(Anmeldung!$C$10:$C$41,MATCH(TRIM(G32),Anmeldung!$B$10:$B$41,0))),"")) | J32: =IF(B32="","",IF(COUNT(S32:U32)<3,"",IF(COUNT(V32:X32)<3,"Alter über 17",IF(Y32=1,"gültig","Ungültig")))) | L32: =IF(K32<>"X","",IF(NOT(ISNUMBER(Y32)),"Angaben fehlen",IF(Y32=1,Kategorien!$C$34,"Team ungültig"))) | Q32: =IF(K32="X",Kategorien!$D$4,"") | S32: =IF(ISNUMBER(D32),IFERROR(DATEDIF(D32,Anmeldung!$O$3,"Y"),""),"") | T32: =IF(ISNUMBER(F32),IFERROR(DATEDIF(F32,Anmeldung!$O$3,"Y"),""),"") | U32: =IF(ISNUMBER(H32),IFERROR(DATEDIF(H32,Anmeldung!$O$3,"Y"),""),"") | V32: =IF(ISNUMBER(S32),IF(S32<=7,1,IF(S32<=11,2,IF(S32<=14,3,IF(S32<=17,4,"")))),"") | W32: =IF(ISNUMBER(T32),IF(T32<=7,1,IF(T32<=11,2,IF(T32<=14,3,IF(T32<=17,4,"")))),"") | X32: =IF(ISNUMBER(U32),IF(U32<=7,1,IF(U32<=11,2,IF(U32<=14,3,IF(U32<=17,4,"")))),"") | Y32: =IF(COUNT(V32:X32)<3,"",IF(AND(V32<>W32,V32<>X32,W32<>X32),1,0))
A33: 3 | D33: =IF(TRIM(C33)="","",IFERROR(IF(INDEX(Anmeldung!$C$10:$C$41,MATCH(TRIM(C33),Anmeldung!$B$10:$B$41,0))="","",INDEX(Anmeldung!$C$10:$C$41,MATCH(TRIM(C33),Anmeldung!$B$10:$B$41,0))),"")) | F33: =IF(TRIM(E33)="","",IFERROR(IF(INDEX(Anmeldung!$C$10:$C$41,MATCH(TRIM(E33),Anmeldung!$B$10:$B$41,0))="","",INDEX(Anmeldung!$C$10:$C$41,MATCH(TRIM(E33),Anmeldung!$B$10:$B$41,0))),"")) | H33: =IF(TRIM(G33)="","",IFERROR(IF(INDEX(Anmeldung!$C$10:$C$41,MATCH(TRIM(G33),Anmeldung!$B$10:$B$41,0))="","",INDEX(Anmeldung!$C$10:$C$41,MATCH(TRIM(G33),Anmeldung!$B$10:$B$41,0))),"")) | J33: =IF(B33="","",IF(COUNT(S33:U33)<3,"",IF(COUNT(V33:X33)<3,"Alter über 17",IF(Y33=1,"gültig","Ungültig")))) | L33: =IF(K33<>"X","",IF(NOT(ISNUMBER(Y33)),"Angaben fehlen",IF(Y33=1,Kategorien!$C$34,"Team ungültig"))) | Q33: =IF(K33="X",Kategorien!$D$4,"") | S33: =IF(ISNUMBER(D33),IFERROR(DATEDIF(D33,Anmeldung!$O$3,"Y"),""),"") | T33: =IF(ISNUMBER(F33),IFERROR(DATEDIF(F33,Anmeldung!$O$3,"Y"),""),"") | U33: =IF(ISNUMBER(H33),IFERROR(DATEDIF(H33,Anmeldung!$O$3,"Y"),""),"") | V33: =IF(ISNUMBER(S33),IF(S33<=7,1,IF(S33<=11,2,IF(S33<=14,3,IF(S33<=17,4,"")))),"") | W33: =IF(ISNUMBER(T33),IF(T33<=7,1,IF(T33<=11,2,IF(T33<=14,3,IF(T33<=17,4,"")))),"") | X33: =IF(ISNUMBER(U33),IF(U33<=7,1,IF(U33<=11,2,IF(U33<=14,3,IF(U33<=17,4,"")))),"") | Y33: =IF(COUNT(V33:X33)<3,"",IF(AND(V33<>W33,V33<>X33,W33<>X33),1,0))
A34: 4 | D34: =IF(TRIM(C34)="","",IFERROR(IF(INDEX(Anmeldung!$C$10:$C$41,MATCH(TRIM(C34),Anmeldung!$B$10:$B$41,0))="","",INDEX(Anmeldung!$C$10:$C$41,MATCH(TRIM(C34),Anmeldung!$B$10:$B$41,0))),"")) | F34: =IF(TRIM(E34)="","",IFERROR(IF(INDEX(Anmeldung!$C$10:$C$41,MATCH(TRIM(E34),Anmeldung!$B$10:$B$41,0))="","",INDEX(Anmeldung!$C$10:$C$41,MATCH(TRIM(E34),Anmeldung!$B$10:$B$41,0))),"")) | H34: =IF(TRIM(G34)="","",IFERROR(IF(INDEX(Anmeldung!$C$10:$C$41,MATCH(TRIM(G34),Anmeldung!$B$10:$B$41,0))="","",INDEX(Anmeldung!$C$10:$C$41,MATCH(TRIM(G34),Anmeldung!$B$10:$B$41,0))),"")) | J34: =IF(B34="","",IF(COUNT(S34:U34)<3,"",IF(COUNT(V34:X34)<3,"Alter über 17",IF(Y34=1,"gültig","Ungültig")))) | L34: =IF(K34<>"X","",IF(NOT(ISNUMBER(Y34)),"Angaben fehlen",IF(Y34=1,Kategorien!$C$34,"Team ungültig"))) | Q34: =IF(K34="X",Kategorien!$D$4,"") | S34: =IF(ISNUMBER(D34),IFERROR(DATEDIF(D34,Anmeldung!$O$3,"Y"),""),"") | T34: =IF(ISNUMBER(F34),IFERROR(DATEDIF(F34,Anmeldung!$O$3,"Y"),""),"") | U34: =IF(ISNUMBER(H34),IFERROR(DATEDIF(H34,Anmeldung!$O$3,"Y"),""),"") | V34: =IF(ISNUMBER(S34),IF(S34<=7,1,IF(S34<=11,2,IF(S34<=14,3,IF(S34<=17,4,"")))),"") | W34: =IF(ISNUMBER(T34),IF(T34<=7,1,IF(T34<=11,2,IF(T34<=14,3,IF(T34<=17,4,"")))),"") | X34: =IF(ISNUMBER(U34),IF(U34<=7,1,IF(U34<=11,2,IF(U34<=14,3,IF(U34<=17,4,"")))),"") | Y34: =IF(COUNT(V34:X34)<3,"",IF(AND(V34<>W34,V34<>X34,W34<>X34),1,0))
A35: 5 | D35: =IF(TRIM(C35)="","",IFERROR(IF(INDEX(Anmeldung!$C$10:$C$41,MATCH(TRIM(C35),Anmeldung!$B$10:$B$41,0))="","",INDEX(Anmeldung!$C$10:$C$41,MATCH(TRIM(C35),Anmeldung!$B$10:$B$41,0))),"")) | F35: =IF(TRIM(E35)="","",IFERROR(IF(INDEX(Anmeldung!$C$10:$C$41,MATCH(TRIM(E35),Anmeldung!$B$10:$B$41,0))="","",INDEX(Anmeldung!$C$10:$C$41,MATCH(TRIM(E35),Anmeldung!$B$10:$B$41,0))),"")) | H35: =IF(TRIM(G35)="","",IFERROR(IF(INDEX(Anmeldung!$C$10:$C$41,MATCH(TRIM(G35),Anmeldung!$B$10:$B$41,0))="","",INDEX(Anmeldung!$C$10:$C$41,MATCH(TRIM(G35),Anmeldung!$B$10:$B$41,0))),"")) | J35: =IF(B35="","",IF(COUNT(S35:U35)<3,"",IF(COUNT(V35:X35)<3,"Alter über 17",IF(Y35=1,"gültig","Ungültig")))) | L35: =IF(K35<>"X","",IF(NOT(ISNUMBER(Y35)),"Angaben fehlen",IF(Y35=1,Kategorien!$C$34,"Team ungültig"))) | Q35: =IF(K35="X",Kategorien!$D$4,"") | S35: =IF(ISNUMBER(D35),IFERROR(DATEDIF(D35,Anmeldung!$O$3,"Y"),""),"") | T35: =IF(ISNUMBER(F35),IFERROR(DATEDIF(F35,Anmeldung!$O$3,"Y"),""),"") | U35: =IF(ISNUMBER(H35),IFERROR(DATEDIF(H35,Anmeldung!$O$3,"Y"),""),"") | V35: =IF(ISNUMBER(S35),IF(S35<=7,1,IF(S35<=11,2,IF(S35<=14,3,IF(S35<=17,4,"")))),"") | W35: =IF(ISNUMBER(T35),IF(T35<=7,1,IF(T35<=11,2,IF(T35<=14,3,IF(T35<=17,4,"")))),"") | X35: =IF(ISNUMBER(U35),IF(U35<=7,1,IF(U35<=11,2,IF(U35<=14,3,IF(U35<=17,4,"")))),"") | Y35: =IF(COUNT(V35:X35)<3,"",IF(AND(V35<>W35,V35<>X35,W35<>X35),1,0))
A36: 6 | D36: =IF(TRIM(C36)="","",IFERROR(IF(INDEX(Anmeldung!$C$10:$C$41,MATCH(TRIM(C36),Anmeldung!$B$10:$B$41,0))="","",INDEX(Anmeldung!$C$10:$C$41,MATCH(TRIM(C36),Anmeldung!$B$10:$B$41,0))),"")) | F36: =IF(TRIM(E36)="","",IFERROR(IF(INDEX(Anmeldung!$C$10:$C$41,MATCH(TRIM(E36),Anmeldung!$B$10:$B$41,0))="","",INDEX(Anmeldung!$C$10:$C$41,MATCH(TRIM(E36),Anmeldung!$B$10:$B$41,0))),"")) | H36: =IF(TRIM(G36)="","",IFERROR(IF(INDEX(Anmeldung!$C$10:$C$41,MATCH(TRIM(G36),Anmeldung!$B$10:$B$41,0))="","",INDEX(Anmeldung!$C$10:$C$41,MATCH(TRIM(G36),Anmeldung!$B$10:$B$41,0))),"")) | J36: =IF(B36="","",IF(COUNT(S36:U36)<3,"",IF(COUNT(V36:X36)<3,"Alter über 17",IF(Y36=1,"gültig","Ungültig")))) | L36: =IF(K36<>"X","",IF(NOT(ISNUMBER(Y36)),"Angaben fehlen",IF(Y36=1,Kategorien!$C$34,"Team ungültig"))) | Q36: =IF(K36="X",Kategorien!$D$4,"") | S36: =IF(ISNUMBER(D36),IFERROR(DATEDIF(D36,Anmeldung!$O$3,"Y"),""),"") | T36: =IF(ISNUMBER(F36),IFERROR(DATEDIF(F36,Anmeldung!$O$3,"Y"),""),"") | U36: =IF(ISNUMBER(H36),IFERROR(DATEDIF(H36,Anmeldung!$O$3,"Y"),""),"") | V36: =IF(ISNUMBER(S36),IF(S36<=7,1,IF(S36<=11,2,IF(S36<=14,3,IF(S36<=17,4,"")))),"") | W36: =IF(ISNUMBER(T36),IF(T36<=7,1,IF(T36<=11,2,IF(T36<=14,3,IF(T36<=17,4,"")))),"") | X36: =IF(ISNUMBER(U36),IF(U36<=7,1,IF(U36<=11,2,IF(U36<=14,3,IF(U36<=17,4,"")))),"") | Y36: =IF(COUNT(V36:X36)<3,"",IF(AND(V36<>W36,V36<>X36,W36<>X36),1,0))
B37: Summe Dojo Kata | K37: =COUNTIF(K31:K36,"X") -> 0 | Q37: =SUM(Q31:Q36) -> 0
B39: Dojo-Kata-Startgeld (15 € je X) wird auf dem Blatt „Anmeldung“ in „Startgeld Dojo gesamt“ mit eingerechnet.

Sheet Anleitung
A1: Anleitung zur Anmeldung
B3: So füllen Sie die Anmeldung aus
B4: 1. Blatt „Anmeldung“: Dojo, Dojoleiter, Ansprechpartner, E-Mail und Telefon oben eintragen. Der Stichtag für die Altersberechnung (15.11.) ist änderbar.
B5: 2. Pro Teilnehmer eine Zeile: Vorname und Nachname, Geburtsdatum (TT.MM.JJJJ), Geschlecht und Graduierung (Dropdown) auswählen.
B6: 3. In den Spalten Kata, Kihon Kumite und Jiyu Kumite ein „X“ setzen: Kategorie-Nr. und Startgeld (5 € je X) erscheinen automatisch.
B7: 4. Kampfrichter / Schreiber: „X“ setzen, wenn die Person diese Funktion übernimmt (kein Startgeld).
B8: 5. Blatt „Teams“: Teamname, drei Starter mit Geburtsdatum, Geschlecht (Jungen/Mädchen/Mixed) und „X“ für Kata / Kihon / Jiyu (15 € je X). Name wie in der Einzelmeldung → Geburtsdatum automatisch.
B9: 6. Oben auf dem Blatt „Anmeldung“ steht das gesamte Startgeld des Dojos (Einzel + Teams). Datei speichern und an den Veranstalter senden.
B11: Farben und Felder
B12: Weiße Felder = ausfüllen · graue Felder = rechnen automatisch (gesperrt) · rote Schrift = Hinweis, bitte Eingabe prüfen (z. B. „Angaben fehlen“).
B13: Das Blatt ist ohne Passwort geschützt, damit keine Formeln versehentlich überschrieben werden (Überprüfen > Blattschutz aufheben).
B15: Regeln
B16: Graduierungsgruppen: 10.–8. Kyu = Anfänger · 7.–4. Kyu = Mittelstufe · ab 3. Kyu und alle Dan = Fortgeschritten.
... B23: Beispiel (nur zur Orientierung – nicht in die Tabelle übernehmen)
B24: Vorname, Nachname | C24: Geburtsdatum | D24: Alter | E24: Geschlecht | F24: Graduierung | G24: Kata | H24: Kata-Nr. | I24: Kihon Kumite | J24: Kihon-Nr. | K24: Jiyu Kumite | L24: Jiyu-Nr. | M24: Startgeld
B25: Lina Beispiel | C25: 03.05.2016 | D25: 10 | E25: Mädchen | F25: 9. Kyu | G25: X | H25: 120 | I25: X | J25: 126 | K25: – | L25: – | M25: 10 €
B26: Erklärung: 10 Jahre (Stichtag 15.11.2026), 9. Kyu = Anfänger → Kata-Nr. 120 und Kihon-Nr. 126 (Mädchen); 2 × 5 € = 10 € Startgeld.
B27: Team-Beispiel: „Karate Kids“ – drei Starter, alle 9 Jahre, Mixed, Kata Team „X“ → Altersgruppe 8–11 Jahre, Kata-Nr. 133, Startgeld 15 €.

Sheet Kategorien
A1: Kategorien-Tabelle (Referenz für die Formeln)
A2: Quelle: SKVD Kinder-Jugend Turnier 2025 in Ratekau, Kategorie-Tabelle. Änderungen hier wirken sich direkt auf die Anmeldeblätter aus.
A3: Startgeld je Einzel-Kategorie (EUR) | D3: 5 | E3: Vorgabe des Auftraggebers: 5 € je Haken (Kata, Kihon Kumite, Jiyu Kumite) bei Einzelstartern
A4: Startgeld je Team-Kategorie (EUR) | D4: 15 | E4: Vorgabe des Auftraggebers: 15 € je Haken (Kata, Kihon Kumite, Jiyu Kumite) bei Teams
A6: Einzel-Kategorien
A7: Schlüssel | B7: Altersgruppe | C7: Graduierungsgruppe | D7: Kata Jungen | E7: Kata Mädchen | F7: Kihon Jungen | G7: Kihon Mädchen | H7: Jiyu Jungen | I7: Jiyu Mädchen | J7: Kihon-Art | L7: Auswahl
A8: A1K1 | B8: bis 7 Jahre | C8: Anfänger (bis 8. Kyu) | D8: 101 | E8: 102 | F8: 105 | G8: 106 | H8: - | I8: - | J8: Gohon | L8: X
A9: A1K2 | B9: bis 7 Jahre | C9: Mittelstufe (ab 7. Kyu, inkl. 3. Kyu u. höher) | D9: 103 | E9: 104 | F9: 107 | G9: 108 | H9: - | I9: - | J9: Sanbon
A10: A2K1 | B10: 8–9 Jahre | C10: Anfänger (bis 8. Kyu) | D10: 111 | E10: 112 | F10: 115 | G10: 116 | H10: - | I10: - | J10: Gohon
A11: A2K2 | B11: 8–9 Jahre | C11: Mittelstufe (ab 7. Kyu, inkl. 3. Kyu u. höher) | D11: 113 | E11: 114 | F11: 117 | G11: 118 | H11: - | I11: - | J11: Sanbon
A12: A3K1 | B12: 10–11 Jahre | C12: Anfänger (bis 8. Kyu) | D12: 119 | E12: 120 | F12: 125 | G12: 126 | H12: - | I12: - | J12: Gohon
A13: A3K2 | B13: 10–11 Jahre | C13: Mittelstufe (ab 7. Kyu) | D13: 121 | E13: 122 | F13: 127 | G13: 128 | H13: - | I13: - | J13: Sanbon
A14: A3K3 | B14: 10–11 Jahre | C14: Fortgeschritten (ab 3. Kyu) | D14: 123 | E14: 124 | F14: 129 | G14: 130 | H14: - | I14: - | J14: Sanbon
A15: A4K1 | B15: 12–13 Jahre | C15: Anfänger (bis 8. Kyu) | D15: 137 | E15: 138 | F15: 143 | G15: 144 | H15: - | I15: - | J15: Gohon
A16: A4K2 | B16: 12–13 Jahre | C16: Mittelstufe (ab 7. Kyu) | D16: 139 | E16: 140 | F16: 145 | G16: 146 | H16: 149 | I16: 150 | J16: Sanbon
A17: A4K3 | B17: 12–13 Jahre | C17: Fortgeschritten (ab 3. Kyu) | D17: 141 | E17: 142 | F17: 147 | G17: 148 | H17: 151 | I17: 152 | J17: Sanbon
A18: A5K1 | B18: 14–15 Jahre | C18: Anfänger (bis 8. Kyu) | D18: 153 | E18: 154 | F18: 159 | G18: 160 | H18: - | I18: - | J18: Gohon
A19: A5K2 | B19: 14–15 Jahre | C19: Mittelstufe (ab 7. Kyu) | D19: 155 | E19: 156 | F19: - | G19: - | H19: 161 | I19: 162 | J19: –
A20: A5K3 | B20: 14–15 Jahre | C20: Fortgeschritten (ab 3. Kyu) | D20: 157 | E20: 158 | F20: - | G20: - | H20: 163 | I20: 164 | J20: –
A21: A6K1 | B21: 16–17 Jahre | C21: Anfänger (bis 8. Kyu) | D21: 171 | E21: 172 | F21: 177 | G21: 178 | H21: - | I21: - | J21: Gohon
A22: A6K2 | B22: 16–17 Jahre | C22: Mittelstufe (ab 7. Kyu) | D22: 173 | E22: 174 | F22: - | G22: - | H22: 179 | I22: 180 | J22: –
A23: A6K3 | B23: 16–17 Jahre | C23: Fortgeschritten (ab 3. Kyu) | D23: 175 | E23: 176 | F23: - | G23: - | H23: 181 | I23: 182 | J23: –
A25: Team-Kategorien
A26: Nr. | B26: Altersgruppe | C26: Kata Jungen | D26: Kata Mädchen | E26: Kata Mixed | F26: Kihon Jungen | G26: Kihon Mädchen | H26: Kihon Mixed | I26: Jiyu Jungen | J26: Jiyu Mädchen | K26: Jiyu Mixed
A27: 1 | B27: bis 7 Jahre | C27: 109 | D27: 109 | E27: 109 | F27: 110 | G27: 110 | H27: 110 | I27: - | J27: - | K27: -
A28: 2 | B28: 8–11 Jahre | C28: 131 | D28: 132 | E28: 133 | F28: 134 | G28: 135 | H28: 136 | I28: - | J28: - | K28: -
A29: 3 | B29: 12–14 Jahre | C29: 165 | D29: 166 | E29: 167 | F29: 168 | G29: 169 | H29: 170 | I29: - | J29: - | K29: -
A30: 4 | B30: 15–17 Jahre | C30: 183 | D30: 184 | E30: 185 | F30: - | G30: - | H30: - | I30: 186 | J30: 187 | K30: 188
A32: Die Kategorie-Nr. wird aus Altersgruppe, Graduierungsgruppe und Geschlecht per Formel (INDEX/VERGLEICH) nachgeschlagen; „-“ = nicht vorgesehen.
A33: Dojo Kata (Kategorie 100)
A34: Kategorie-Nr. | B34: Dojo Kata | C34: 100
A35: Drei Starter eines Dojos aus drei verschiedenen Team-Altersgruppen (bis 7 / 8–11 / 12–14 / 15–17). Startgeld wie Team (15 € je X).
